BEGIN:VCALENDAR
VERSION:2.0
PRODID:-//Natural Cookery School - ECPv6.15.20//NONSGML v1.0//EN
CALSCALE:GREGORIAN
METHOD:PUBLISH
X-WR-CALNAME:Natural Cookery School
X-ORIGINAL-URL:https://www.naturalcookeryschool.com
X-WR-CALDESC:Events for Natural Cookery School
REFRESH-INTERVAL;VALUE=DURATION:PT1H
X-Robots-Tag:noindex
X-PUBLISHED-TTL:PT1H
BEGIN:VTIMEZONE
TZID:Europe/London
BEGIN:DAYLIGHT
TZOFFSETFROM:+0000
TZOFFSETTO:+0100
TZNAME:BST
DTSTART:20240331T010000
END:DAYLIGHT
BEGIN:STANDARD
TZOFFSETFROM:+0100
TZOFFSETTO:+0000
TZNAME:GMT
DTSTART:20241027T010000
END:STANDARD
BEGIN:DAYLIGHT
TZOFFSETFROM:+0000
TZOFFSETTO:+0100
TZNAME:BST
DTSTART:20250330T010000
END:DAYLIGHT
BEGIN:STANDARD
TZOFFSETFROM:+0100
TZOFFSETTO:+0000
TZNAME:GMT
DTSTART:20251026T010000
END:STANDARD
BEGIN:DAYLIGHT
TZOFFSETFROM:+0000
TZOFFSETTO:+0100
TZNAME:BST
DTSTART:20260329T010000
END:DAYLIGHT
BEGIN:STANDARD
TZOFFSETFROM:+0100
TZOFFSETTO:+0000
TZNAME:GMT
DTSTART:20261025T010000
END:STANDARD
END:VTIMEZONE
BEGIN:VEVENT
DTSTART;TZID=Europe/London:20250426T100000
DTEND;TZID=Europe/London:20250426T153000
DTSTAMP:20260425T191441
CREATED:20240830T134252Z
LAST-MODIFIED:20250331T093218Z
UID:10000589-1745661600-1745681400@www.naturalcookeryschool.com
SUMMARY:Asian Street Food
DESCRIPTION:Learn to create Asian street food with an explosion of flavours\, tastes and aromas. These authentic local treats balance sweet\, sour\, salty and spicy in perfect harmony. \nAfter taking our Asian Street Food class\, you’ll be able to reproduce these uniquely delicious skewers\, noodles and dumplings in your own home. We will discuss how to source ingredients or suitable substitutes that help make these dishes truly authentic. These dishes are perfect for parties or can be put together for a meal of small plates. \nSample Recipes: \n\nJapanese gyoza dumplings with sesame ginger sauce\nErin’s famous pad Thai\nMalaysian satay\nVietnamese rice paper rolls and dipping sauce\nSamosas mint chutney and tamarind sauce\nBanana Fritters
URL:https://www.naturalcookeryschool.com/class/asian-street-food-20/
LOCATION:Natural Cookery School\, Days Mill\, Old Market\,\, Nailsworth\, GL6 0DU\, United Kingdom
CATEGORIES:Asian Street Food,Classes,Day Classes
ATTACH;FMTTYPE=image/jpeg:https://www.naturalcookeryschool.com/wp-content/uploads/2012/10/satayplated.jpg
END:VEVENT
END:VCALENDAR