BEGIN:VCALENDAR
VERSION:2.0
PRODID:-//Natural Cookery School - ECPv6.15.20//NONSGML v1.0//EN
CALSCALE:GREGORIAN
METHOD:PUBLISH
X-WR-CALNAME:Natural Cookery School
X-ORIGINAL-URL:https://www.naturalcookeryschool.com
X-WR-CALDESC:Events for Natural Cookery School
REFRESH-INTERVAL;VALUE=DURATION:PT1H
X-Robots-Tag:noindex
X-PUBLISHED-TTL:PT1H
BEGIN:VTIMEZONE
TZID:Europe/London
BEGIN:DAYLIGHT
TZOFFSETFROM:+0000
TZOFFSETTO:+0100
TZNAME:BST
DTSTART:20240331T010000
END:DAYLIGHT
BEGIN:STANDARD
TZOFFSETFROM:+0100
TZOFFSETTO:+0000
TZNAME:GMT
DTSTART:20241027T010000
END:STANDARD
BEGIN:DAYLIGHT
TZOFFSETFROM:+0000
TZOFFSETTO:+0100
TZNAME:BST
DTSTART:20250330T010000
END:DAYLIGHT
BEGIN:STANDARD
TZOFFSETFROM:+0100
TZOFFSETTO:+0000
TZNAME:GMT
DTSTART:20251026T010000
END:STANDARD
BEGIN:DAYLIGHT
TZOFFSETFROM:+0000
TZOFFSETTO:+0100
TZNAME:BST
DTSTART:20260329T010000
END:DAYLIGHT
BEGIN:STANDARD
TZOFFSETFROM:+0100
TZOFFSETTO:+0000
TZNAME:GMT
DTSTART:20261025T010000
END:STANDARD
BEGIN:DAYLIGHT
TZOFFSETFROM:+0000
TZOFFSETTO:+0100
TZNAME:BST
DTSTART:20270328T010000
END:DAYLIGHT
BEGIN:STANDARD
TZOFFSETFROM:+0100
TZOFFSETTO:+0000
TZNAME:GMT
DTSTART:20271031T010000
END:STANDARD
END:VTIMEZONE
BEGIN:VEVENT
DTSTART;TZID=Europe/London:20260212T183000
DTEND;TZID=Europe/London:20260212T210000
DTSTAMP:20260422T153538
CREATED:20250924T130416Z
LAST-MODIFIED:20260210T133349Z
UID:10000702-1770921000-1770930000@www.naturalcookeryschool.com
SUMMARY:Chocolate Experience
DESCRIPTION:Share the love of chocolate and make your own Valentine’s chocolates. \nAre you or someone you know passionate about chocolate? Come and learn all about chocolate from a professional chocolatier.  We are bringing in Amy Levin\, one of the UK’s leading all-natural chocolatiers specialising in gluten and dairy free chocolates\, to show you the tricks of the trade \nSample Recipes \n\nThe chocolate journey – where it comes from\, how it is processed commercially and how an artisan chocolatier prepares chocolate in small batches\nChocolate bars – the group gets to design and make them using a professional mould\nPralines – set into silicone moulds and dipped in chocolate\nTruffles – easy to make with 4 main ingredients\nMaking chocolates at home\n\nAll chocolates are dairy\, wheat\, gluten and refined sugar free. \n  \n 
URL:https://www.naturalcookeryschool.com/class/chocolate-experience/
LOCATION:Natural Cookery School\, Days Mill\, Old Market\,\, Nailsworth\, GL6 0DU\, United Kingdom
CATEGORIES:Chocolate Experience,Evening Classes
ATTACH;FMTTYPE=image/jpeg:https://www.naturalcookeryschool.com/wp-content/uploads/2025/09/DSCF1143-scaled.jpg
ORGANIZER;CN="Natural Cookery School":MAILTO:erin@naturalcookeryschool.com
END:VEVENT
BEGIN:VEVENT
DTSTART;TZID=Europe/London:20251203T183000
DTEND;TZID=Europe/London:20251203T210000
DTSTAMP:20260422T153538
CREATED:20250902T161441Z
LAST-MODIFIED:20251008T093946Z
UID:10000682-1764786600-1764795600@www.naturalcookeryschool.com
SUMMARY:Chocolate Experience
DESCRIPTION:Are you or someone you know passionate about chocolate? Come and learn all about chocolate from a professional chocolatier. We are bringing in Amy Levin\, one of the UK’s leading all-natural chocolatiers specialising in gluten and dairy free chocolates\, to show you the tricks of the trade  All chocolates are dairy\, wheat\, gluten and refined sugar free. You will be amazed at the results. Please not\, dinner is not provided in this class\, only chocolate! \nSample Recipes \n\nThe chocolate journey – where it comes from\, how it is processed commercially and how an artisan chocolatier prepares chocolate in small batches\nChocolate bars – design and make using a professional mould\nPralines – set into silicone moulds and dipped in chocolate\nTruffles – easy to make with 4 main ingredients\nMaking chocolates at home\n\n  \n 
URL:https://www.naturalcookeryschool.com/class/chocolate-experience-2/
LOCATION:Natural Cookery School\, Days Mill\, Old Market\,\, Nailsworth\, GL6 0DU\, United Kingdom
CATEGORIES:Chocolate Experience,Evening Classes
ATTACH;FMTTYPE=image/jpeg:https://www.naturalcookeryschool.com/wp-content/uploads/2025/09/DSCF1143-scaled.jpg
ORGANIZER;CN="Natural Cookery School":MAILTO:erin@naturalcookeryschool.com
END:VEVENT
END:VCALENDAR