BEGIN:VCALENDAR
VERSION:2.0
PRODID:-//Natural Cookery School - ECPv6.15.20//NONSGML v1.0//EN
CALSCALE:GREGORIAN
METHOD:PUBLISH
X-ORIGINAL-URL:https://www.naturalcookeryschool.com
X-WR-CALDESC:Events for Natural Cookery School
REFRESH-INTERVAL;VALUE=DURATION:PT1H
X-Robots-Tag:noindex
X-PUBLISHED-TTL:PT1H
BEGIN:VTIMEZONE
TZID:Europe/London
BEGIN:DAYLIGHT
TZOFFSETFROM:+0000
TZOFFSETTO:+0100
TZNAME:BST
DTSTART:20220327T010000
END:DAYLIGHT
BEGIN:STANDARD
TZOFFSETFROM:+0100
TZOFFSETTO:+0000
TZNAME:GMT
DTSTART:20221030T010000
END:STANDARD
BEGIN:DAYLIGHT
TZOFFSETFROM:+0000
TZOFFSETTO:+0100
TZNAME:BST
DTSTART:20230326T010000
END:DAYLIGHT
BEGIN:STANDARD
TZOFFSETFROM:+0100
TZOFFSETTO:+0000
TZNAME:GMT
DTSTART:20231029T010000
END:STANDARD
BEGIN:DAYLIGHT
TZOFFSETFROM:+0000
TZOFFSETTO:+0100
TZNAME:BST
DTSTART:20240331T010000
END:DAYLIGHT
BEGIN:STANDARD
TZOFFSETFROM:+0100
TZOFFSETTO:+0000
TZNAME:GMT
DTSTART:20241027T010000
END:STANDARD
END:VTIMEZONE
BEGIN:VEVENT
DTSTART;TZID=Europe/London:20230420T183000
DTEND;TZID=Europe/London:20230420T213000
DTSTAMP:20260425T181122
CREATED:20221207T113618Z
LAST-MODIFIED:20221207T113618Z
UID:10000379-1682015400-1682026200@www.naturalcookeryschool.com
SUMMARY:Korean Kitchen
DESCRIPTION:Popular for its noodles and rice dishes\, Korean food is a favourite of many\, but hard to find for some. In our Korean cooking class\, you will learn how to create Korean inspired plant based recipes at home. We will make Bibimbap\, the original buddha bowl full of crunchy vegetables\, sesame rice\, pickles and marinated tofu and seasoned spinach. No Korean class would be complete without a kimchi demonstration\, we will use mature kimchi to make pancakes to pile on our plate. We will also cover ingredients unique to Korean cooking and where to source them. \nSample Recipes \nGochujang tofu\nJapche – glass noodles and veg stirfry\nBibimbap\nBindetook- mungbean pancakes and dipping sauce
URL:https://www.naturalcookeryschool.com/class/korean-kitchen-2/
LOCATION:Natural Cookery School\, Days Mill\, Old Market\,\, Nailsworth\, GL6 0DU\, United Kingdom
CATEGORIES:Classes,Evening Classes,Korean Kitchen
ATTACH;FMTTYPE=image/jpeg:https://www.naturalcookeryschool.com/wp-content/uploads/2019/11/Bimimbap-for-Korean-Class-7419.jpg
ORGANIZER;CN="Natural Cookery School":MAILTO:erin@naturalcookeryschool.com
END:VEVENT
BEGIN:VEVENT
DTSTART;TZID=Europe/London:20230425T183000
DTEND;TZID=Europe/London:20230425T213000
DTSTAMP:20260425T181122
CREATED:20230215T111639Z
LAST-MODIFIED:20230215T112049Z
UID:10000442-1682447400-1682458200@www.naturalcookeryschool.com
SUMMARY:Taste of Thailand
DESCRIPTION:Rich coconut milk curries\, spicy salads and famous noodle dishes set Thai cuisine apart from the rest of the Asian food world. These southeast Asian flavours are easy to create at home. \nOur Taste of Thailand cookery class will provide you with a foundation for using Thai ingredients including lemongrass\, fermented radish\, kaffir lime leaves\, galangal and chillies as well techniques and cooking styles to create fantastic meals at home. \nSample Recipes: \n\nSom tum – British twist on green papaya salad\nThai green curry\nPad Thai – Erin’s famous version of the Thai classic
URL:https://www.naturalcookeryschool.com/class/taste-of-thailand-18/
LOCATION:Natural Cookery School\, Days Mill\, Old Market\,\, Nailsworth\, GL6 0DU\, United Kingdom
CATEGORIES:Classes,Evening Classes,Taste of Thailand,Thai and Vietnamese,Very Vietnamese
ATTACH;FMTTYPE=image/jpeg:https://www.naturalcookeryschool.com/wp-content/uploads/2012/10/greencurry.jpg
END:VEVENT
END:VCALENDAR