BEGIN:VCALENDAR
VERSION:2.0
PRODID:-//Natural Cookery School - ECPv6.15.20//NONSGML v1.0//EN
CALSCALE:GREGORIAN
METHOD:PUBLISH
X-ORIGINAL-URL:https://www.naturalcookeryschool.com
X-WR-CALDESC:Events for Natural Cookery School
REFRESH-INTERVAL;VALUE=DURATION:PT1H
X-Robots-Tag:noindex
X-PUBLISHED-TTL:PT1H
BEGIN:VTIMEZONE
TZID:Europe/London
BEGIN:DAYLIGHT
TZOFFSETFROM:+0000
TZOFFSETTO:+0100
TZNAME:BST
DTSTART:20220327T010000
END:DAYLIGHT
BEGIN:STANDARD
TZOFFSETFROM:+0100
TZOFFSETTO:+0000
TZNAME:GMT
DTSTART:20221030T010000
END:STANDARD
BEGIN:DAYLIGHT
TZOFFSETFROM:+0000
TZOFFSETTO:+0100
TZNAME:BST
DTSTART:20230326T010000
END:DAYLIGHT
BEGIN:STANDARD
TZOFFSETFROM:+0100
TZOFFSETTO:+0000
TZNAME:GMT
DTSTART:20231029T010000
END:STANDARD
BEGIN:DAYLIGHT
TZOFFSETFROM:+0000
TZOFFSETTO:+0100
TZNAME:BST
DTSTART:20240331T010000
END:DAYLIGHT
BEGIN:STANDARD
TZOFFSETFROM:+0100
TZOFFSETTO:+0000
TZNAME:GMT
DTSTART:20241027T010000
END:STANDARD
END:VTIMEZONE
BEGIN:VEVENT
DTSTART;TZID=Europe/London:20231206T183000
DTEND;TZID=Europe/London:20231206T213000
DTSTAMP:20260425T033246
CREATED:20230120T131115Z
LAST-MODIFIED:20231215T133239Z
UID:10000410-1701887400-1701898200@www.naturalcookeryschool.com
SUMMARY:Winter One Pot Wonders
DESCRIPTION:This class will take you through a variety of meat free one pot wonders perfect for easing into the cooler months. Winter vegetables paired with pulses and grains to create delicious nutritious dishes that are packed with plant based protein. These delicious and nutritious dishes are easy peasy and quick for busy lives. \nSample Recipes: \n\nTandori quinoa with chickpeas\, spinach and sweet potato\nMexican black bean chilli and cornbread\nInstant miso ramen\nWinter vegetable and tofu bake with tahini sauce
URL:https://www.naturalcookeryschool.com/class/winter-one-pot-wonders-3/
LOCATION:Natural Cookery School\, Days Mill\, Old Market\,\, Nailsworth\, GL6 0DU\, United Kingdom
CATEGORIES:Classes,Evening Classes,One Pot Wonders
ATTACH;FMTTYPE=image/jpeg:https://www.naturalcookeryschool.com/wp-content/uploads/2012/10/saucepanJPG.jpg
END:VEVENT
BEGIN:VEVENT
DTSTART;TZID=Europe/London:20231213T183000
DTEND;TZID=Europe/London:20231213T213000
DTSTAMP:20260425T033246
CREATED:20230120T152101Z
LAST-MODIFIED:20231215T133235Z
UID:10000430-1702492200-1702503000@www.naturalcookeryschool.com
SUMMARY:Christmas Curry
DESCRIPTION:Join us for a fun filled evening making traditional Indian curry with seasonal and festive ingredients. Explore the magic of making an Indian meal. You will learn to make delicious recipes\, where to source and how to use a variety of ingredients that are used to make authentic Indian food. We will break down the basics of cooking food from India to deliver smooth\, delicious dishes full of freshness and flavour. \nAfter the class you will have a firm understanding of spices including asafoetida and amchoor as well as using ingredients such as tamarind and curry leaves. We will make and use a garam masala spice blend and explain how to prepare your spices for optimum flavour. \nSample Recipes \nSwede and pea samosas with cranberry tamarind chutney\nCabbage thoran – beautiful cabbage curry\nCauliflower tikka masala\nQuick nan breads
URL:https://www.naturalcookeryschool.com/class/christmas-curry-4/
LOCATION:Natural Cookery School\, Days Mill\, Old Market\,\, Nailsworth\, GL6 0DU\, United Kingdom
CATEGORIES:Christmas,Christmas Curry,Classes,Evening Classes,Indian Evening
ATTACH;FMTTYPE=image/jpeg:https://www.naturalcookeryschool.com/wp-content/uploads/2018/11/thaliplate-sm.jpeg
END:VEVENT
END:VCALENDAR