BEGIN:VCALENDAR
VERSION:2.0
PRODID:-//Natural Cookery School - ECPv6.15.20//NONSGML v1.0//EN
CALSCALE:GREGORIAN
METHOD:PUBLISH
X-WR-CALNAME:Natural Cookery School
X-ORIGINAL-URL:https://www.naturalcookeryschool.com
X-WR-CALDESC:Events for Natural Cookery School
REFRESH-INTERVAL;VALUE=DURATION:PT1H
X-Robots-Tag:noindex
X-PUBLISHED-TTL:PT1H
BEGIN:VTIMEZONE
TZID:Europe/London
BEGIN:DAYLIGHT
TZOFFSETFROM:+0000
TZOFFSETTO:+0100
TZNAME:BST
DTSTART:20230326T010000
END:DAYLIGHT
BEGIN:STANDARD
TZOFFSETFROM:+0100
TZOFFSETTO:+0000
TZNAME:GMT
DTSTART:20231029T010000
END:STANDARD
BEGIN:DAYLIGHT
TZOFFSETFROM:+0000
TZOFFSETTO:+0100
TZNAME:BST
DTSTART:20240331T010000
END:DAYLIGHT
BEGIN:STANDARD
TZOFFSETFROM:+0100
TZOFFSETTO:+0000
TZNAME:GMT
DTSTART:20241027T010000
END:STANDARD
BEGIN:DAYLIGHT
TZOFFSETFROM:+0000
TZOFFSETTO:+0100
TZNAME:BST
DTSTART:20250330T010000
END:DAYLIGHT
BEGIN:STANDARD
TZOFFSETFROM:+0100
TZOFFSETTO:+0000
TZNAME:GMT
DTSTART:20251026T010000
END:STANDARD
END:VTIMEZONE
BEGIN:VEVENT
DTSTART;TZID=Europe/London:20240111T183000
DTEND;TZID=Europe/London:20240111T213000
DTSTAMP:20260425T020233
CREATED:20230120T143206Z
LAST-MODIFIED:20231215T133229Z
UID:10000422-1704997800-1705008600@www.naturalcookeryschool.com
SUMMARY:Spanish Tapas
DESCRIPTION:Be inspired by the flavours of Spain with an evening Spanish Tapas class. In this class\, we will cover a range of authentic Spanish tapas inspired by the season and its produce. These recipes are best enjoyed in the garden with the last of the summer sun and a jug of sangria! From moreish crispy aubergine to spicy potatoes\, bold and zippy roasted romesco sauce and a vegetable based version of the classic rice dish paella. \nSample Recipes \n\nChampiñones al Ajillo (mushrooms  with garlic)\n\nZanahorias Aliñadas (marinated carrots)\nCharred leeks with romesco sauce\nVegetable paella – saffron rice with olives and artichoke hearts\nSangria
URL:https://www.naturalcookeryschool.com/class/spanish-tapas-8/
LOCATION:Natural Cookery School\, Days Mill\, Old Market\,\, Nailsworth\, GL6 0DU\, United Kingdom
CATEGORIES:Classes,Evening Classes,Spanish Tapas
ATTACH;FMTTYPE=image/jpeg:https://www.naturalcookeryschool.com/wp-content/uploads/2012/10/DSC_1439.jpg
ORGANIZER;CN="Natural Cookery School":MAILTO:erin@naturalcookeryschool.com
END:VEVENT
BEGIN:VEVENT
DTSTART;TZID=Europe/London:20240118T183000
DTEND;TZID=Europe/London:20240118T213000
DTSTAMP:20260425T020233
CREATED:20230901T133806Z
LAST-MODIFIED:20231215T133225Z
UID:10000478-1705602600-1705613400@www.naturalcookeryschool.com
SUMMARY:Taste of Thailand
DESCRIPTION:Rich coconut milk curries\, spicy salads and famous noodle dishes set Thai cuisine apart from the rest of the Asian food world. These southeast Asian flavours are easy to create at home. \nOur Taste of Thailand cookery class will provide you with a foundation for using Thai ingredients including lemongrass\, fermented radish\, kaffir lime leaves\, galangal and chillies as well techniques and cooking styles to create fantastic meals at home. \nSample Recipes: \n\nSom tum – British twist on green papaya salad\nThai green curry\nPad Thai – Erin’s famous version of the Thai classic
URL:https://www.naturalcookeryschool.com/class/taste-of-thailand-19/
LOCATION:Natural Cookery School\, Days Mill\, Old Market\,\, Nailsworth\, GL6 0DU\, United Kingdom
CATEGORIES:Classes,Evening Classes,Taste of Thailand
ATTACH;FMTTYPE=image/jpeg:https://www.naturalcookeryschool.com/wp-content/uploads/2012/10/greencurry.jpg
END:VEVENT
BEGIN:VEVENT
DTSTART;TZID=Europe/London:20240124T183000
DTEND;TZID=Europe/London:20240124T213000
DTSTAMP:20260425T020233
CREATED:20230124T164535Z
LAST-MODIFIED:20240102T151738Z
UID:10000437-1706121000-1706131800@www.naturalcookeryschool.com
SUMMARY:Plant Based For Beginners
DESCRIPTION:Trying to eat less meat and more plant based but don’t know where to start? Don’t worry\, it’s not all brown rice and broccoli\, although both are great! This class will help put veg in the centre of the plate and make the transition easy.  Eating more plant based foods is better for our environment\, better for our health and guess what? It tastes great! We will create delicious and satisfying vegan meals that will leave the tastebuds dancing.  The focus of the class is to introduce cooks to plant based ingredients and how to incorporate them into your diet. And don’t worry\, there will be plenty of protein\, even in the pudding! \nSample Recipes \nRed lentils with roasted cauliflower and mint chutney\nSquash and black bean tacos with chipotle mayonnaise\nCreamy Mushroom Stroganoff\nChocolate orange mousse pots with almond brittle
URL:https://www.naturalcookeryschool.com/class/plant-based-for-beginners-6/
LOCATION:Natural Cookery School\, Days Mill\, Old Market\,\, Nailsworth\, GL6 0DU\, United Kingdom
CATEGORIES:Classes,Evening Classes,Plant Based for Beginners
ATTACH;FMTTYPE=image/jpeg:https://www.naturalcookeryschool.com/wp-content/uploads/2021/10/Squash-tacos-scaled.jpg
END:VEVENT
END:VCALENDAR