BEGIN:VCALENDAR
VERSION:2.0
PRODID:-//Natural Cookery School - ECPv6.15.20//NONSGML v1.0//EN
CALSCALE:GREGORIAN
METHOD:PUBLISH
X-ORIGINAL-URL:https://www.naturalcookeryschool.com
X-WR-CALDESC:Events for Natural Cookery School
REFRESH-INTERVAL;VALUE=DURATION:PT1H
X-Robots-Tag:noindex
X-PUBLISHED-TTL:PT1H
BEGIN:VTIMEZONE
TZID:Europe/London
BEGIN:DAYLIGHT
TZOFFSETFROM:+0000
TZOFFSETTO:+0100
TZNAME:BST
DTSTART:20230326T010000
END:DAYLIGHT
BEGIN:STANDARD
TZOFFSETFROM:+0100
TZOFFSETTO:+0000
TZNAME:GMT
DTSTART:20231029T010000
END:STANDARD
BEGIN:DAYLIGHT
TZOFFSETFROM:+0000
TZOFFSETTO:+0100
TZNAME:BST
DTSTART:20240331T010000
END:DAYLIGHT
BEGIN:STANDARD
TZOFFSETFROM:+0100
TZOFFSETTO:+0000
TZNAME:GMT
DTSTART:20241027T010000
END:STANDARD
BEGIN:DAYLIGHT
TZOFFSETFROM:+0000
TZOFFSETTO:+0100
TZNAME:BST
DTSTART:20250330T010000
END:DAYLIGHT
BEGIN:STANDARD
TZOFFSETFROM:+0100
TZOFFSETTO:+0000
TZNAME:GMT
DTSTART:20251026T010000
END:STANDARD
END:VTIMEZONE
BEGIN:VEVENT
DTSTART;TZID=Europe/London:20240410T183000
DTEND;TZID=Europe/London:20240410T213000
DTSTAMP:20260424T202203
CREATED:20240126T142718Z
LAST-MODIFIED:20240126T142718Z
UID:10000527-1712773800-1712784600@www.naturalcookeryschool.com
SUMMARY:Indian Evening
DESCRIPTION:Explore the magic of Indian cuisine. You will learn to make delicious recipes\, where to source and how to use a variety of ingredients that are used to make authentic Indian food. We will break down the basics of cooking food from India to deliver smooth\, delicious dishes full of freshness and flavour. \nAfter the class\, you will have a firm understanding of spices including aseofatida and amchoor as well as using ingredients such as tamarind and curry leaves. We will make and use a garam masala spice blend and explain how to prepare your spices for optimum flavour. \nSample Recipes \nTarka dhal\nGohbi – cauliflower or\nMushroom Matar\nLemon cashew rice\nQuick nan breads
URL:https://www.naturalcookeryschool.com/class/indian-evening-4/
LOCATION:Natural Cookery School\, Days Mill\, Old Market\,\, Nailsworth\, GL6 0DU\, United Kingdom
CATEGORIES:Classes,Evening Classes,Indian Evening,Indian Thali
ATTACH;FMTTYPE=image/jpeg:https://www.naturalcookeryschool.com/wp-content/uploads/2018/11/thaliplate-sm.jpeg
END:VEVENT
BEGIN:VEVENT
DTSTART;TZID=Europe/London:20240417T183000
DTEND;TZID=Europe/London:20240417T213000
DTSTAMP:20260424T202203
CREATED:20231124T133445Z
LAST-MODIFIED:20231215T133153Z
UID:10000500-1713378600-1713389400@www.naturalcookeryschool.com
SUMMARY:Taste of Thailand
DESCRIPTION:Rich coconut milk curries\, spicy salads and famous noodle dishes set Thai cuisine apart from the rest of the Asian food world. These southeast Asian flavours are easy to create at home. \nOur Taste of Thailand cookery class will provide you with a foundation for using Thai ingredients including lemongrass\, fermented radish\, kaffir lime leaves\, galangal and chillies as well techniques and cooking styles to create fantastic meals at home. \nSample Recipes: \n\nSom tum – British twist on green papaya salad\nThai green curry\nPad Thai – Erin’s famous version of the Thai classic
URL:https://www.naturalcookeryschool.com/class/taste-of-thailand-20/
LOCATION:Natural Cookery School\, Days Mill\, Old Market\,\, Nailsworth\, GL6 0DU\, United Kingdom
CATEGORIES:Classes,Evening Classes,Taste of Thailand
ATTACH;FMTTYPE=image/jpeg:https://www.naturalcookeryschool.com/wp-content/uploads/2012/10/greencurry.jpg
ORGANIZER;CN="Natural Cookery School":MAILTO:erin@naturalcookeryschool.com
END:VEVENT
END:VCALENDAR