BEGIN:VCALENDAR
VERSION:2.0
PRODID:-//Natural Cookery School - ECPv6.15.20//NONSGML v1.0//EN
CALSCALE:GREGORIAN
METHOD:PUBLISH
X-ORIGINAL-URL:https://www.naturalcookeryschool.com
X-WR-CALDESC:Events for Natural Cookery School
REFRESH-INTERVAL;VALUE=DURATION:PT1H
X-Robots-Tag:noindex
X-PUBLISHED-TTL:PT1H
BEGIN:VTIMEZONE
TZID:Europe/London
BEGIN:DAYLIGHT
TZOFFSETFROM:+0000
TZOFFSETTO:+0100
TZNAME:BST
DTSTART:20230326T010000
END:DAYLIGHT
BEGIN:STANDARD
TZOFFSETFROM:+0100
TZOFFSETTO:+0000
TZNAME:GMT
DTSTART:20231029T010000
END:STANDARD
BEGIN:DAYLIGHT
TZOFFSETFROM:+0000
TZOFFSETTO:+0100
TZNAME:BST
DTSTART:20240331T010000
END:DAYLIGHT
BEGIN:STANDARD
TZOFFSETFROM:+0100
TZOFFSETTO:+0000
TZNAME:GMT
DTSTART:20241027T010000
END:STANDARD
BEGIN:DAYLIGHT
TZOFFSETFROM:+0000
TZOFFSETTO:+0100
TZNAME:BST
DTSTART:20250330T010000
END:DAYLIGHT
BEGIN:STANDARD
TZOFFSETFROM:+0100
TZOFFSETTO:+0000
TZNAME:GMT
DTSTART:20251026T010000
END:STANDARD
END:VTIMEZONE
BEGIN:VEVENT
DTSTART;TZID=Europe/London:20240814T183000
DTEND;TZID=Europe/London:20240814T213000
DTSTAMP:20260424T143351
CREATED:20231212T151044Z
LAST-MODIFIED:20240610T161704Z
UID:10000508-1723660200-1723671000@www.naturalcookeryschool.com
SUMMARY:Korean Kitchen
DESCRIPTION:Popular for its noodles and rice dishes\, Korean food is a favourite of many\, but hard to find for some. In our Korean cooking class\, you will learn how to create Korean inspired plant based recipes at home. We will make Bibimbap\, the original buddha bowl full of crunchy vegetables\, sesame rice\, pickles and marinated tofu and seasoned spinach. No Korean class would be complete without a kimchi demonstration\, we will use mature kimchi to make pancakes to pile on our plate. We will also cover ingredients unique to Korean cooking and where to source them. \nSample Recipes \nGochujang tofu\nJapche – glass noodles and veg stirfry\nBipimbap\nBindetook- mungbean pancakes and dipping sauce
URL:https://www.naturalcookeryschool.com/class/korean-kitchen-8/
LOCATION:Natural Cookery School\, Days Mill\, Old Market\,\, Nailsworth\, GL6 0DU\, United Kingdom
CATEGORIES:Classes,Evening Classes,Korean Kitchen
ATTACH;FMTTYPE=image/jpeg:https://www.naturalcookeryschool.com/wp-content/uploads/2019/11/Bimimbap-for-Korean-Class-7419.jpg
ORGANIZER;CN="Natural Cookery School":MAILTO:erin@naturalcookeryschool.com
END:VEVENT
END:VCALENDAR