BEGIN:VCALENDAR
VERSION:2.0
PRODID:-//Natural Cookery School - ECPv6.15.20//NONSGML v1.0//EN
CALSCALE:GREGORIAN
METHOD:PUBLISH
X-WR-CALNAME:Natural Cookery School
X-ORIGINAL-URL:https://www.naturalcookeryschool.com
X-WR-CALDESC:Events for Natural Cookery School
REFRESH-INTERVAL;VALUE=DURATION:PT1H
X-Robots-Tag:noindex
X-PUBLISHED-TTL:PT1H
BEGIN:VTIMEZONE
TZID:Europe/London
BEGIN:DAYLIGHT
TZOFFSETFROM:+0000
TZOFFSETTO:+0100
TZNAME:BST
DTSTART:20230326T010000
END:DAYLIGHT
BEGIN:STANDARD
TZOFFSETFROM:+0100
TZOFFSETTO:+0000
TZNAME:GMT
DTSTART:20231029T010000
END:STANDARD
BEGIN:DAYLIGHT
TZOFFSETFROM:+0000
TZOFFSETTO:+0100
TZNAME:BST
DTSTART:20240331T010000
END:DAYLIGHT
BEGIN:STANDARD
TZOFFSETFROM:+0100
TZOFFSETTO:+0000
TZNAME:GMT
DTSTART:20241027T010000
END:STANDARD
BEGIN:DAYLIGHT
TZOFFSETFROM:+0000
TZOFFSETTO:+0100
TZNAME:BST
DTSTART:20250330T010000
END:DAYLIGHT
BEGIN:STANDARD
TZOFFSETFROM:+0100
TZOFFSETTO:+0000
TZNAME:GMT
DTSTART:20251026T010000
END:STANDARD
END:VTIMEZONE
BEGIN:VEVENT
DTSTART;TZID=Europe/London:20241205T183000
DTEND;TZID=Europe/London:20241205T213000
DTSTAMP:20260422T183933
CREATED:20241024T141418Z
LAST-MODIFIED:20250116T163945Z
UID:10000601-1733423400-1733434200@www.naturalcookeryschool.com
SUMMARY:Flavours of Morocco
DESCRIPTION:Flavours of Morocco cookery class will help you gain insight into the enchanting culture of the Moors by creating traditional foods with authentic ingredients. Learn how to embrace the heady spices of a souk to create colourful and flavoursome dishes. We will teach you how to make a sumptuous feast including homemade harrisa\, stuffed flatbreads\, tagine and light fluffy couscous speckled with jewels. \nSample menu \n\nSquash and lentil tagine\nRas el hanout spice blend\nLemon and pomegranate couscous\nSpring onion and parsley stuffed flatbread\nOrange and date salad\nHarrisa\n\nView all Flavours of Morocco classes
URL:https://www.naturalcookeryschool.com/class/flavours-of-morocco-15/
LOCATION:Natural Cookery School\, Days Mill\, Old Market\,\, Nailsworth\, GL6 0DU\, United Kingdom
CATEGORIES:Classes,Evening Classes,Flavours of Morocco
ATTACH;FMTTYPE=image/jpeg:https://www.naturalcookeryschool.com/wp-content/uploads/2019/03/moroccanspread-1200-e1552491375200.jpg
END:VEVENT
END:VCALENDAR