BEGIN:VCALENDAR
VERSION:2.0
PRODID:-//Natural Cookery School - ECPv6.15.20//NONSGML v1.0//EN
CALSCALE:GREGORIAN
METHOD:PUBLISH
X-WR-CALNAME:Natural Cookery School
X-ORIGINAL-URL:https://www.naturalcookeryschool.com
X-WR-CALDESC:Events for Natural Cookery School
REFRESH-INTERVAL;VALUE=DURATION:PT1H
X-Robots-Tag:noindex
X-PUBLISHED-TTL:PT1H
BEGIN:VTIMEZONE
TZID:Europe/London
BEGIN:DAYLIGHT
TZOFFSETFROM:+0000
TZOFFSETTO:+0100
TZNAME:BST
DTSTART:20240331T010000
END:DAYLIGHT
BEGIN:STANDARD
TZOFFSETFROM:+0100
TZOFFSETTO:+0000
TZNAME:GMT
DTSTART:20241027T010000
END:STANDARD
BEGIN:DAYLIGHT
TZOFFSETFROM:+0000
TZOFFSETTO:+0100
TZNAME:BST
DTSTART:20250330T010000
END:DAYLIGHT
BEGIN:STANDARD
TZOFFSETFROM:+0100
TZOFFSETTO:+0000
TZNAME:GMT
DTSTART:20251026T010000
END:STANDARD
BEGIN:DAYLIGHT
TZOFFSETFROM:+0000
TZOFFSETTO:+0100
TZNAME:BST
DTSTART:20260329T010000
END:DAYLIGHT
BEGIN:STANDARD
TZOFFSETFROM:+0100
TZOFFSETTO:+0000
TZNAME:GMT
DTSTART:20261025T010000
END:STANDARD
END:VTIMEZONE
BEGIN:VEVENT
DTSTART;TZID=Europe/London:20250205T183000
DTEND;TZID=Europe/London:20250205T213000
DTSTAMP:20260422T144937
CREATED:20241009T181356Z
LAST-MODIFIED:20250116T163938Z
UID:10000600-1738780200-1738791000@www.naturalcookeryschool.com
SUMMARY:Sri Lankan Style
DESCRIPTION:For a tiny little island\, Sri Lankan food delivers with big flavour! Join us for our Sri Lankan cookery class to get a taste of what the country is famous for. We will create the single most popular dish\, Parippu – Dhal Curry\, and rightly so for its delicious combination of lentils\, coconut milk\, tempered spices and chilli.\nWe will show you how to make our plant based verision of the famous hopper\, fermented coconut savoury pancake served with pol sambol – a delicious coconut relish. As well as a favourtie curry and fragrant tumeric and lemongrass rice. \nSample Recipes \n\nPumpkin Curry – packed with flavour\nParippu – Dhal curry Sri Lanka’s most popular dish\nYellow Rice – turmeric and lemongrass flavoured rice\nPol Roti – Sri Lankan coconut flatbread\nPol Sambol – coconut chilli relish\n\n  \n 
URL:https://www.naturalcookeryschool.com/class/sri-lankan-style-3/
LOCATION:Natural Cookery School\, Days Mill\, Old Market\,\, Nailsworth\, GL6 0DU\, United Kingdom
CATEGORIES:Classes,Evening Classes,Sri Lanken Style
ATTACH;FMTTYPE=image/jpeg:https://www.naturalcookeryschool.com/wp-content/uploads/2023/01/Sri-Lankan.jpg
ORGANIZER;CN="Natural Cookery School":MAILTO:erin@naturalcookeryschool.com
END:VEVENT
BEGIN:VEVENT
DTSTART;TZID=Europe/London:20250211T183000
DTEND;TZID=Europe/London:20250211T213000
DTSTAMP:20260422T144937
CREATED:20240830T135517Z
LAST-MODIFIED:20250204T120651Z
UID:10000591-1739298600-1739309400@www.naturalcookeryschool.com
SUMMARY:Korean Kitchen
DESCRIPTION:Popular for its noodles and rice dishes\, Korean food is a favourite of many\, but hard to find for some. In our Korean cooking class\, you will learn how to create Korean inspired plant based recipes at home. We will make Bibimbap\, the original buddha bowl full of crunchy vegetables\, sesame rice\, pickles and marinated tofu and seasoned spinach. No Korean class would be complete without a kimchi demonstration\, we will use mature kimchi to make pancakes to pile on our plate. We will also cover ingredients unique to Korean cooking and where to source them. \nSample Recipes \nGochujang tofu\nJapche – glass noodles and veg stirfry\nBipimbap\nBindetook- mungbean pancakes and dipping sauce
URL:https://www.naturalcookeryschool.com/class/korean-kitchen-13/
LOCATION:Natural Cookery School\, Days Mill\, Old Market\,\, Nailsworth\, GL6 0DU\, United Kingdom
CATEGORIES:Classes,Evening Classes,Korean Kitchen
ATTACH;FMTTYPE=image/jpeg:https://www.naturalcookeryschool.com/wp-content/uploads/2019/11/Bimimbap-for-Korean-Class-7419.jpg
ORGANIZER;CN="Natural Cookery School":MAILTO:erin@naturalcookeryschool.com
END:VEVENT
BEGIN:VEVENT
DTSTART;TZID=Europe/London:20250226T183000
DTEND;TZID=Europe/London:20250226T213000
DTSTAMP:20260422T144937
CREATED:20241115T154308Z
LAST-MODIFIED:20250116T163934Z
UID:10000607-1740594600-1740605400@www.naturalcookeryschool.com
SUMMARY:Bao Buns
DESCRIPTION:Our bao buns cookery class is a fun evening dedicated to mastering the art of creating perfectly fluffy steamed bao buns. The evening will be filled with hands-on techniques as we teach you the process of making the dough\, preparing the fillings\, shaping an cooking the buns.  We will make a variety of plant based fillings\, sauces and garnishes to create truly delicious bao buns.  This class is not suitable for gluten free diets. \nSample Recipes: \n\nHoisin tofu with pickled cucumber\, roasted peanuts\nGochujang tempeh with sesame ginger slaw\nMushroom char siu with moiuli
URL:https://www.naturalcookeryschool.com/class/bao-buns/
LOCATION:Natural Cookery School\, Days Mill\, Old Market\,\, Nailsworth\, GL6 0DU\, United Kingdom
CATEGORIES:Bao Buns,Classes,Evening Classes
ATTACH;FMTTYPE=image/png:https://www.naturalcookeryschool.com/wp-content/uploads/2024/11/Screenshot-2024-11-18-at-14.28.26.png
ORGANIZER;CN="Natural Cookery School":MAILTO:erin@naturalcookeryschool.com
END:VEVENT
END:VCALENDAR