BEGIN:VCALENDAR
VERSION:2.0
PRODID:-//Natural Cookery School - ECPv6.15.20//NONSGML v1.0//EN
CALSCALE:GREGORIAN
METHOD:PUBLISH
X-ORIGINAL-URL:https://www.naturalcookeryschool.com
X-WR-CALDESC:Events for Natural Cookery School
REFRESH-INTERVAL;VALUE=DURATION:PT1H
X-Robots-Tag:noindex
X-PUBLISHED-TTL:PT1H
BEGIN:VTIMEZONE
TZID:Europe/London
BEGIN:DAYLIGHT
TZOFFSETFROM:+0000
TZOFFSETTO:+0100
TZNAME:BST
DTSTART:20240331T010000
END:DAYLIGHT
BEGIN:STANDARD
TZOFFSETFROM:+0100
TZOFFSETTO:+0000
TZNAME:GMT
DTSTART:20241027T010000
END:STANDARD
BEGIN:DAYLIGHT
TZOFFSETFROM:+0000
TZOFFSETTO:+0100
TZNAME:BST
DTSTART:20250330T010000
END:DAYLIGHT
BEGIN:STANDARD
TZOFFSETFROM:+0100
TZOFFSETTO:+0000
TZNAME:GMT
DTSTART:20251026T010000
END:STANDARD
BEGIN:DAYLIGHT
TZOFFSETFROM:+0000
TZOFFSETTO:+0100
TZNAME:BST
DTSTART:20260329T010000
END:DAYLIGHT
BEGIN:STANDARD
TZOFFSETFROM:+0100
TZOFFSETTO:+0000
TZNAME:GMT
DTSTART:20261025T010000
END:STANDARD
END:VTIMEZONE
BEGIN:VEVENT
DTSTART;TZID=Europe/London:20250326T183000
DTEND;TZID=Europe/London:20250326T213000
DTSTAMP:20260422T130603
CREATED:20241119T150753Z
LAST-MODIFIED:20250116T163930Z
UID:10000614-1743013800-1743024600@www.naturalcookeryschool.com
SUMMARY:Indian Thali
DESCRIPTION:Explore the magic of an Indian cuisine in our Indian Thali cookery class. You will learn to make delicious recipes\, where to source and how to use a variety of ingredients that are used to make authentic Indian food. We will break down the basics of cooking food from India to deliver smooth\, delicious dishes full of freshness and flavour. \nAfter the class\, you will have a firm understanding of spices including aseofatida and amchoor as well as using ingredients such as tamarind and curry leaves. We will make and use a garam masala spice blend and explain how to prepare your spices for optimum flavour. \nSample Recipes \nTarka dhal\nMushroom Matar\nOnion Bahji\nLemon cashew rice\nQuick nan breads
URL:https://www.naturalcookeryschool.com/class/indian-thali-5/
LOCATION:Natural Cookery School\, Days Mill\, Old Market\,\, Nailsworth\, GL6 0DU\, United Kingdom
CATEGORIES:Classes,Evening Classes,Indian Thali
ATTACH;FMTTYPE=image/jpeg:https://www.naturalcookeryschool.com/wp-content/uploads/2018/11/thaliplate-sm.jpeg
ORGANIZER;CN="Natural Cookery School":MAILTO:erin@naturalcookeryschool.com
END:VEVENT
BEGIN:VEVENT
DTSTART;TZID=Europe/London:20250327T183000
DTEND;TZID=Europe/London:20250327T213000
DTSTAMP:20260422T130603
CREATED:20241119T152943Z
LAST-MODIFIED:20250221T161620Z
UID:10000615-1743100200-1743111000@www.naturalcookeryschool.com
SUMMARY:Forage and Feast: An Evening with Wild Garlic
DESCRIPTION:Join us for an enchanting evening with wild garlic. Wild garlic grows in abundance in the spring and is great to use in cooking however\, it is also worth preserving for culinary uses throughout the year. \nWild garlic is extremely versatile and all of the parts of the plant can be used for cooking.  We will make a variety of fresh dishes to be eaten immediately along with ideas on how to preserve the flavour all year round. We will teach you how to identify\, find and forage wild garlic along with the best way to safely and responsibly forage and harvest.  \nPlease note will not be foraging the garlic as it will be dark and most likely wet but we will talk about where and how to. \nSample Recipes \nWild garlic butter\nWild garlic pakoras\nWild garlic pesto\nWild garlic vinegar\nFermented wild garlic\nWild garlic salt
URL:https://www.naturalcookeryschool.com/class/forage-and-feast-an-evening-with-wild-garlic-2/
LOCATION:Natural Cookery School\, Days Mill\, Old Market\,\, Nailsworth\, GL6 0DU\, United Kingdom
CATEGORIES:Classes,Evening Classes,Forage and Feast
ATTACH;FMTTYPE=image/jpeg:https://www.naturalcookeryschool.com/wp-content/uploads/2020/01/Wild-Garlic.jpg
ORGANIZER;CN="Natural Cookery School":MAILTO:erin@naturalcookeryschool.com
END:VEVENT
END:VCALENDAR