BEGIN:VCALENDAR
VERSION:2.0
PRODID:-//Natural Cookery School - ECPv6.15.20//NONSGML v1.0//EN
CALSCALE:GREGORIAN
METHOD:PUBLISH
X-ORIGINAL-URL:https://www.naturalcookeryschool.com
X-WR-CALDESC:Events for Natural Cookery School
REFRESH-INTERVAL;VALUE=DURATION:PT1H
X-Robots-Tag:noindex
X-PUBLISHED-TTL:PT1H
BEGIN:VTIMEZONE
TZID:Europe/London
BEGIN:DAYLIGHT
TZOFFSETFROM:+0000
TZOFFSETTO:+0100
TZNAME:BST
DTSTART:20240331T010000
END:DAYLIGHT
BEGIN:STANDARD
TZOFFSETFROM:+0100
TZOFFSETTO:+0000
TZNAME:GMT
DTSTART:20241027T010000
END:STANDARD
BEGIN:DAYLIGHT
TZOFFSETFROM:+0000
TZOFFSETTO:+0100
TZNAME:BST
DTSTART:20250330T010000
END:DAYLIGHT
BEGIN:STANDARD
TZOFFSETFROM:+0100
TZOFFSETTO:+0000
TZNAME:GMT
DTSTART:20251026T010000
END:STANDARD
BEGIN:DAYLIGHT
TZOFFSETFROM:+0000
TZOFFSETTO:+0100
TZNAME:BST
DTSTART:20260329T010000
END:DAYLIGHT
BEGIN:STANDARD
TZOFFSETFROM:+0100
TZOFFSETTO:+0000
TZNAME:GMT
DTSTART:20261025T010000
END:STANDARD
END:VTIMEZONE
BEGIN:VEVENT
DTSTART;TZID=Europe/London:20250716T183000
DTEND;TZID=Europe/London:20250716T213000
DTSTAMP:20260420T064116
CREATED:20250304T154956Z
LAST-MODIFIED:20250304T155847Z
UID:10000648-1752690600-1752701400@www.naturalcookeryschool.com
SUMMARY:Quick\, Healthy and Delicious
DESCRIPTION:Plant based recipes that are healthy\, quick and delicious. We all have a lot on our plate in life\, this class will help you make nutritious\, delicious meals without spending hours in the kitchen. Wholesome grains\, seasonal veg and lots of flavour are the key ingredients to delivering a quick meal. Nutritious foods paired with seasonal veg\, crunchy nuts and seeds all tied together with a delicious sauce or dressing. We will cover steps to save time\, make recipes versatile and use up ingredients on hand.\nSample Recipes \n\nGrilled portabella with chimichurri with butter bean mash\nZa’atar aubergine with quinoa tabbouleh and tahini sauce\nPea and mint pancakes with cashew sour cream and rainbow slaw
URL:https://www.naturalcookeryschool.com/class/quick-healthy-and-delicious-17/
LOCATION:Natural Cookery School\, Days Mill\, Old Market\,\, Nailsworth\, GL6 0DU\, United Kingdom
CATEGORIES:Classes,Evening Classes,Quick and Delicious
ATTACH;FMTTYPE=image/jpeg:https://www.naturalcookeryschool.com/wp-content/uploads/2025/03/Peaand-mint-pancakes-e1741103913345.jpeg
ORGANIZER;CN="Natural Cookery School":MAILTO:erin@naturalcookeryschool.com
END:VEVENT
BEGIN:VEVENT
DTSTART;TZID=Europe/London:20250730T183000
DTEND;TZID=Europe/London:20250730T213000
DTSTAMP:20260420T064116
CREATED:20250325T113041Z
LAST-MODIFIED:20250325T113041Z
UID:10000653-1753900200-1753911000@www.naturalcookeryschool.com
SUMMARY:Indian Thali
DESCRIPTION:Explore the magic of an Indian cuisine in our Indian Thali cookery class. You will learn to make delicious recipes\, where to source and how to use a variety of ingredients that are used to make authentic Indian food. We will break down the basics of cooking food from India to deliver smooth\, delicious dishes full of freshness and flavour. \nAfter the class\, you will have a firm understanding of spices including aseofatida and amchoor as well as using ingredients such as tamarind and curry leaves. We will make and use a garam masala spice blend and explain how to prepare your spices for optimum flavour. \nSample Recipes \nTarka dhal\nMushroom Matar\nOnion Bahji\nLemon cashew rice\nQuick nan breads
URL:https://www.naturalcookeryschool.com/class/indian-thali-7/
LOCATION:Natural Cookery School\, Days Mill\, Old Market\,\, Nailsworth\, GL6 0DU\, United Kingdom
CATEGORIES:Classes,Evening Classes,Indian Thali
ATTACH;FMTTYPE=image/jpeg:https://www.naturalcookeryschool.com/wp-content/uploads/2018/11/thaliplate-sm.jpeg
ORGANIZER;CN="Natural Cookery School":MAILTO:erin@naturalcookeryschool.com
END:VEVENT
END:VCALENDAR