BEGIN:VCALENDAR
VERSION:2.0
PRODID:-//Natural Cookery School - ECPv6.15.20//NONSGML v1.0//EN
CALSCALE:GREGORIAN
METHOD:PUBLISH
X-ORIGINAL-URL:https://www.naturalcookeryschool.com
X-WR-CALDESC:Events for Natural Cookery School
REFRESH-INTERVAL;VALUE=DURATION:PT1H
X-Robots-Tag:noindex
X-PUBLISHED-TTL:PT1H
BEGIN:VTIMEZONE
TZID:Europe/London
BEGIN:DAYLIGHT
TZOFFSETFROM:+0000
TZOFFSETTO:+0100
TZNAME:BST
DTSTART:20240331T010000
END:DAYLIGHT
BEGIN:STANDARD
TZOFFSETFROM:+0100
TZOFFSETTO:+0000
TZNAME:GMT
DTSTART:20241027T010000
END:STANDARD
BEGIN:DAYLIGHT
TZOFFSETFROM:+0000
TZOFFSETTO:+0100
TZNAME:BST
DTSTART:20250330T010000
END:DAYLIGHT
BEGIN:STANDARD
TZOFFSETFROM:+0100
TZOFFSETTO:+0000
TZNAME:GMT
DTSTART:20251026T010000
END:STANDARD
BEGIN:DAYLIGHT
TZOFFSETFROM:+0000
TZOFFSETTO:+0100
TZNAME:BST
DTSTART:20260329T010000
END:DAYLIGHT
BEGIN:STANDARD
TZOFFSETFROM:+0100
TZOFFSETTO:+0000
TZNAME:GMT
DTSTART:20261025T010000
END:STANDARD
END:VTIMEZONE
BEGIN:VEVENT
DTSTART;TZID=Europe/London:20250820T183000
DTEND;TZID=Europe/London:20250820T213000
DTSTAMP:20260420T045036
CREATED:20250227T145026Z
LAST-MODIFIED:20250602T093751Z
UID:10000644-1755714600-1755725400@www.naturalcookeryschool.com
SUMMARY:Bao Buns
DESCRIPTION:Our bao buns cookery class is a fun evening dedicated to mastering the art of creating perfectly fluffy steamed bao buns. The evening will be filled with hands-on techniques as we teach you the process of making the dough\, preparing the fillings\, shaping an cooking the buns.  We will make a variety of plant based fillings\, sauces and garnishes to create truly delicious bao buns.  This class is not suitable for gluten free diets. \nSample Recipes: \n\nHoisin tofu with pickled cucumber\, roasted peanuts\nVegetable båozi buns\nTeriyaki oyster mushroom with crunchy veg and wasabi mayo
URL:https://www.naturalcookeryschool.com/class/bao-buns-2/
LOCATION:Natural Cookery School\, Days Mill\, Old Market\,\, Nailsworth\, GL6 0DU\, United Kingdom
CATEGORIES:Bao Buns,Classes,Evening Classes
ATTACH;FMTTYPE=image/png:https://www.naturalcookeryschool.com/wp-content/uploads/2024/11/Screenshot-2024-11-18-at-14.28.26.png
ORGANIZER;CN="Natural Cookery School":MAILTO:erin@naturalcookeryschool.com
END:VEVENT
END:VCALENDAR