BEGIN:VCALENDAR
VERSION:2.0
PRODID:-//Natural Cookery School - ECPv6.15.20//NONSGML v1.0//EN
CALSCALE:GREGORIAN
METHOD:PUBLISH
X-ORIGINAL-URL:https://www.naturalcookeryschool.com
X-WR-CALDESC:Events for Natural Cookery School
REFRESH-INTERVAL;VALUE=DURATION:PT1H
X-Robots-Tag:noindex
X-PUBLISHED-TTL:PT1H
BEGIN:VTIMEZONE
TZID:Europe/London
BEGIN:DAYLIGHT
TZOFFSETFROM:+0000
TZOFFSETTO:+0100
TZNAME:BST
DTSTART:20250330T010000
END:DAYLIGHT
BEGIN:STANDARD
TZOFFSETFROM:+0100
TZOFFSETTO:+0000
TZNAME:GMT
DTSTART:20251026T010000
END:STANDARD
BEGIN:DAYLIGHT
TZOFFSETFROM:+0000
TZOFFSETTO:+0100
TZNAME:BST
DTSTART:20260329T010000
END:DAYLIGHT
BEGIN:STANDARD
TZOFFSETFROM:+0100
TZOFFSETTO:+0000
TZNAME:GMT
DTSTART:20261025T010000
END:STANDARD
BEGIN:DAYLIGHT
TZOFFSETFROM:+0000
TZOFFSETTO:+0100
TZNAME:BST
DTSTART:20270328T010000
END:DAYLIGHT
BEGIN:STANDARD
TZOFFSETFROM:+0100
TZOFFSETTO:+0000
TZNAME:GMT
DTSTART:20271031T010000
END:STANDARD
END:VTIMEZONE
BEGIN:VEVENT
DTSTART;TZID=Europe/London:20260314T100000
DTEND;TZID=Europe/London:20260314T150000
DTSTAMP:20260422T135737
CREATED:20250905T152748Z
LAST-MODIFIED:20250905T152748Z
UID:10000698-1773482400-1773500400@www.naturalcookeryschool.com
SUMMARY:Gluten Free Baking
DESCRIPTION:Gluten free baking has come so far over the years and we have learned a lot in the process! Let us share that with you in our all day Gluten Free Baking cookery class.  This class help you understand the science of gluten free baking\, by showcasing an assortment of gluten free flours and various things that you can do with them.\nWe will spend the day in the kitchen creating a beautiful spread of mouth watering gluten free sweet and savoury treats. The day will be broken up by a gluten free two course lunch of items created during the course accompanied by plenty of tasting along the way.  There will also be items for you to take home Please note that the ingredients on this course are gluten free but the kitchen is not dedicated gluten free. All of the recipes will be dairy free and vegan as well as gluten free. \nSample Recipes \n\nLemon almond sponge\nLeek focaccia\nBrown bread\nNigella seed naan bread\nFlax\, sunflower and sesame crackers\nSeedy carrot cake or muffins\nFarniata – chickpea flatbread
URL:https://www.naturalcookeryschool.com/class/gluten-free-baking-5/
LOCATION:Natural Cookery School\, Days Mill\, Old Market\,\, Nailsworth\, GL6 0DU\, United Kingdom
CATEGORIES:Classes,Gluten Free Baking
ATTACH;FMTTYPE=image/jpeg:https://www.naturalcookeryschool.com/wp-content/uploads/2023/10/GF-Baking.jpg
ORGANIZER;CN="Natural Cookery School":MAILTO:erin@naturalcookeryschool.com
END:VEVENT
END:VCALENDAR