BEGIN:VCALENDAR
VERSION:2.0
PRODID:-//Natural Cookery School - ECPv6.15.20//NONSGML v1.0//EN
CALSCALE:GREGORIAN
METHOD:PUBLISH
X-ORIGINAL-URL:https://www.naturalcookeryschool.com
X-WR-CALDESC:Events for Natural Cookery School
REFRESH-INTERVAL;VALUE=DURATION:PT1H
X-Robots-Tag:noindex
X-PUBLISHED-TTL:PT1H
BEGIN:VTIMEZONE
TZID:Europe/London
BEGIN:DAYLIGHT
TZOFFSETFROM:+0000
TZOFFSETTO:+0100
TZNAME:BST
DTSTART:20240331T010000
END:DAYLIGHT
BEGIN:STANDARD
TZOFFSETFROM:+0100
TZOFFSETTO:+0000
TZNAME:GMT
DTSTART:20241027T010000
END:STANDARD
BEGIN:DAYLIGHT
TZOFFSETFROM:+0000
TZOFFSETTO:+0100
TZNAME:BST
DTSTART:20250330T010000
END:DAYLIGHT
BEGIN:STANDARD
TZOFFSETFROM:+0100
TZOFFSETTO:+0000
TZNAME:GMT
DTSTART:20251026T010000
END:STANDARD
BEGIN:DAYLIGHT
TZOFFSETFROM:+0000
TZOFFSETTO:+0100
TZNAME:BST
DTSTART:20260329T010000
END:DAYLIGHT
BEGIN:STANDARD
TZOFFSETFROM:+0100
TZOFFSETTO:+0000
TZNAME:GMT
DTSTART:20261025T010000
END:STANDARD
BEGIN:DAYLIGHT
TZOFFSETFROM:+0000
TZOFFSETTO:+0100
TZNAME:BST
DTSTART:20270328T010000
END:DAYLIGHT
BEGIN:STANDARD
TZOFFSETFROM:+0100
TZOFFSETTO:+0000
TZNAME:GMT
DTSTART:20271031T010000
END:STANDARD
END:VTIMEZONE
BEGIN:VEVENT
DTSTART;TZID=Europe/London:20260326T183000
DTEND;TZID=Europe/London:20260326T210000
DTSTAMP:20260424T185717
CREATED:20251208T201316Z
LAST-MODIFIED:20251208T201316Z
UID:10000719-1774549800-1774558800@www.naturalcookeryschool.com
SUMMARY:Ramen and Gyozas
DESCRIPTION:Fancy an evening learning how to make big bowls of brothy ramen made a side of crispy gyozas. Join us for our Ramen and Gyozas class and make two of Japan’s most popular dishes. \nWe will begin the evening by showing you how to make the dough for gyozas. Then we will make an umami filled plant based broth to use as a base for our ramen and prepare a variety of garnishes to add to our ramen. \nThe second part of the evening will finish the gyozas.  We will teach you make a delicious filling\, then show you how to roll out\, shape and cook the gyozas. This class is not suitable for gluten free. \nSample Recipe \n\nMiso ramen\nShiitake and chinese leaf gyozas\nSoy ginger dipping sauce\nVariations on ramen
URL:https://www.naturalcookeryschool.com/class/ramen-and-gyozas-4/
LOCATION:Natural Cookery School\, Days Mill\, Old Market\,\, Nailsworth\, GL6 0DU\, United Kingdom
CATEGORIES:Classes,Evening Classes,Gyozas and Ramen
ATTACH;FMTTYPE=image/jpeg:https://www.naturalcookeryschool.com/wp-content/uploads/2012/10/gyoza.jpg
ORGANIZER;CN="Natural Cookery School":MAILTO:erin@naturalcookeryschool.com
END:VEVENT
BEGIN:VEVENT
DTSTART;TZID=Europe/London:20260128T183000
DTEND;TZID=Europe/London:20260128T210000
DTSTAMP:20260424T185717
CREATED:20251021T152100Z
LAST-MODIFIED:20251208T202007Z
UID:10000691-1769625000-1769634000@www.naturalcookeryschool.com
SUMMARY:Ramen and Gyozas
DESCRIPTION:Fancy an evening learning how to make big bowls of brothy ramen made a side of crispy gyozas. Join us for our Ramen and Gyozas class and make two of Japan’s most popular dishes. \nWe will begin the evening by showing you how to make the dough for gyozas. Then we will make an umami filled plant based broth to use as a base for our ramen and prepare a variety of garnishes to add to our ramen. \nThe second part of the evening will finish the gyozas.  We will teach you make a delicious filling\, then show you how to roll out\, shape and cook the gyozas. This class is not suitable for gluten free. \nSample Recipe \n\nMiso ramen\nShiitake and chinese leaf gyozas\nSoy ginger dipping sauce\nVariations on ramen
URL:https://www.naturalcookeryschool.com/class/ramen-and-gyozas-3/
LOCATION:Natural Cookery School\, Days Mill\, Old Market\,\, Nailsworth\, GL6 0DU\, United Kingdom
CATEGORIES:Classes,Evening Classes,Gyozas and Ramen
ATTACH;FMTTYPE=image/jpeg:https://www.naturalcookeryschool.com/wp-content/uploads/2012/10/gyoza.jpg
ORGANIZER;CN="Natural Cookery School":MAILTO:erin@naturalcookeryschool.com
END:VEVENT
BEGIN:VEVENT
DTSTART;TZID=Europe/London:20251113T183000
DTEND;TZID=Europe/London:20251113T213000
DTSTAMP:20260424T185717
CREATED:20250114T161041Z
LAST-MODIFIED:20250617T150235Z
UID:10000628-1763058600-1763069400@www.naturalcookeryschool.com
SUMMARY:Ramen and Gyozas
DESCRIPTION:Fancy an evening learning how to make big bowls of brothy ramen made a side of crispy gyozas. Join us for our Ramen and Gyozas class and make two of Japan’s most popular dishes. \nWe will begin the evening by showing you how to make the dough for gyozas. Then we will make an umami filled plant based broth to use as a base for our ramen and prepare a variety of garnishes to add to our ramen. \nThe second part of the evening will finish the gyozas.  We will teach you make a delicious filling\, then show you how to roll out\, shape and cook the gyozas. This class is not suitable for gluten free. \nSample Recipe \n\nMiso ramen\nShiitake and chinese leaf gyozas\nSoy ginger dipping sauce\nVariations on ramen
URL:https://www.naturalcookeryschool.com/class/ramen-and-gyozas-2/
LOCATION:Natural Cookery School\, Days Mill\, Old Market\,\, Nailsworth\, GL6 0DU\, United Kingdom
CATEGORIES:Classes,Evening Classes,Gyozas and Ramen
ATTACH;FMTTYPE=image/jpeg:https://www.naturalcookeryschool.com/wp-content/uploads/2012/10/gyoza.jpg
ORGANIZER;CN="Natural Cookery School":MAILTO:erin@naturalcookeryschool.com
END:VEVENT
BEGIN:VEVENT
DTSTART;TZID=Europe/London:20250129T183000
DTEND;TZID=Europe/London:20250129T213000
DTSTAMP:20260424T185717
CREATED:20241205T135434Z
LAST-MODIFIED:20250116T163939Z
UID:10000621-1738175400-1738186200@www.naturalcookeryschool.com
SUMMARY:Ramen and Gyozas
DESCRIPTION:Fancy an evening learning how to make big bowls of brothy ramen made a side of crispy gyozas. Join us for our Ramen and Gyozas class and make two of Japan’s most popular dishes. \nWe will begin the evening by showing you how to make the dough for gyozas. Then we will make an umami filled plant based broth to use as a base for our ramen and prepare a variety of garnishes to add to our ramen. \nThe second part of the evening will finish the gyozas.  We will teach you make a delicious filling\, then show you how to roll out\, shape and cook the gyozas. This class is not suitable for gluten free. \nSample Recipe \n\nMiso ramen\nShiitake and chinese leaf gyozas\nSoy ginger dipping sauce\nVariations on ramen
URL:https://www.naturalcookeryschool.com/class/ramen-and-gyozas/
LOCATION:Natural Cookery School\, Days Mill\, Old Market\,\, Nailsworth\, GL6 0DU\, United Kingdom
CATEGORIES:Classes,Evening Classes,Gyozas and Ramen
ATTACH;FMTTYPE=image/jpeg:https://www.naturalcookeryschool.com/wp-content/uploads/2012/10/gyoza.jpg
ORGANIZER;CN="Natural Cookery School":MAILTO:erin@naturalcookeryschool.com
END:VEVENT
END:VCALENDAR