BEGIN:VCALENDAR
VERSION:2.0
PRODID:-//Natural Cookery School - ECPv6.15.20//NONSGML v1.0//EN
CALSCALE:GREGORIAN
METHOD:PUBLISH
X-ORIGINAL-URL:https://www.naturalcookeryschool.com
X-WR-CALDESC:Events for Natural Cookery School
REFRESH-INTERVAL;VALUE=DURATION:PT1H
X-Robots-Tag:noindex
X-PUBLISHED-TTL:PT1H
BEGIN:VTIMEZONE
TZID:Europe/London
BEGIN:DAYLIGHT
TZOFFSETFROM:+0000
TZOFFSETTO:+0100
TZNAME:BST
DTSTART:20240331T010000
END:DAYLIGHT
BEGIN:STANDARD
TZOFFSETFROM:+0100
TZOFFSETTO:+0000
TZNAME:GMT
DTSTART:20241027T010000
END:STANDARD
BEGIN:DAYLIGHT
TZOFFSETFROM:+0000
TZOFFSETTO:+0100
TZNAME:BST
DTSTART:20250330T010000
END:DAYLIGHT
BEGIN:STANDARD
TZOFFSETFROM:+0100
TZOFFSETTO:+0000
TZNAME:GMT
DTSTART:20251026T010000
END:STANDARD
BEGIN:DAYLIGHT
TZOFFSETFROM:+0000
TZOFFSETTO:+0100
TZNAME:BST
DTSTART:20260329T010000
END:DAYLIGHT
BEGIN:STANDARD
TZOFFSETFROM:+0100
TZOFFSETTO:+0000
TZNAME:GMT
DTSTART:20261025T010000
END:STANDARD
END:VTIMEZONE
BEGIN:VEVENT
DTSTART;TZID=Europe/London:20251207T100000
DTEND;TZID=Europe/London:20251207T130000
DTSTAMP:20260425T201822
CREATED:20250924T160333Z
LAST-MODIFIED:20251126T115629Z
UID:10000705-1765101600-1765112400@www.naturalcookeryschool.com
SUMMARY:Festive Family Baking
DESCRIPTION:Price includes for one adult and one child or young person for a 3 hour hands on class \nJoin us for a fabulously festive baking experience\, perfect for families who love spending time together in the kitchen. You’ll learn new recipes\, techniques\, and a few tricks of the trade — all while making plenty of merry mess! ✨ \nThe best part? We’ll take care of the washing up\, so you can simply focus on creating (and tasting!) delicious Christmas-themed bakes. Price includes for one adult and one child or young person for a 3 hour hands on class. Please note\, this class is not suitable for gluten free diets. \nSample Recipes \nRed & Green Pesto Palmiers\nMincemeat Chelsea Buns\nFestive Yule Log\n\n 
URL:https://www.naturalcookeryschool.com/class/festive-family-baking/
LOCATION:Natural Cookery School\, Days Mill\, Old Market\,\, Nailsworth\, GL6 0DU\, United Kingdom
CATEGORIES:Family Cooking,Kids Kitchen
ATTACH;FMTTYPE=image/jpeg:https://www.naturalcookeryschool.com/wp-content/uploads/2025/09/chleseabuns.jpg
ORGANIZER;CN="Natural Cookery School":MAILTO:erin@naturalcookeryschool.com
END:VEVENT
END:VCALENDAR