BEGIN:VCALENDAR
VERSION:2.0
PRODID:-//Natural Cookery School - ECPv6.15.20//NONSGML v1.0//EN
CALSCALE:GREGORIAN
METHOD:PUBLISH
X-WR-CALNAME:Natural Cookery School
X-ORIGINAL-URL:https://www.naturalcookeryschool.com
X-WR-CALDESC:Events for Natural Cookery School
REFRESH-INTERVAL;VALUE=DURATION:PT1H
X-Robots-Tag:noindex
X-PUBLISHED-TTL:PT1H
BEGIN:VTIMEZONE
TZID:Europe/London
BEGIN:DAYLIGHT
TZOFFSETFROM:+0000
TZOFFSETTO:+0100
TZNAME:BST
DTSTART:20220327T010000
END:DAYLIGHT
BEGIN:STANDARD
TZOFFSETFROM:+0100
TZOFFSETTO:+0000
TZNAME:GMT
DTSTART:20221030T010000
END:STANDARD
BEGIN:DAYLIGHT
TZOFFSETFROM:+0000
TZOFFSETTO:+0100
TZNAME:BST
DTSTART:20230326T010000
END:DAYLIGHT
BEGIN:STANDARD
TZOFFSETFROM:+0100
TZOFFSETTO:+0000
TZNAME:GMT
DTSTART:20231029T010000
END:STANDARD
BEGIN:DAYLIGHT
TZOFFSETFROM:+0000
TZOFFSETTO:+0100
TZNAME:BST
DTSTART:20240331T010000
END:DAYLIGHT
BEGIN:STANDARD
TZOFFSETFROM:+0100
TZOFFSETTO:+0000
TZNAME:GMT
DTSTART:20241027T010000
END:STANDARD
BEGIN:DAYLIGHT
TZOFFSETFROM:+0000
TZOFFSETTO:+0100
TZNAME:BST
DTSTART:20250330T010000
END:DAYLIGHT
BEGIN:STANDARD
TZOFFSETFROM:+0100
TZOFFSETTO:+0000
TZNAME:GMT
DTSTART:20251026T010000
END:STANDARD
BEGIN:DAYLIGHT
TZOFFSETFROM:+0000
TZOFFSETTO:+0100
TZNAME:BST
DTSTART:20260329T010000
END:DAYLIGHT
BEGIN:STANDARD
TZOFFSETFROM:+0100
TZOFFSETTO:+0000
TZNAME:GMT
DTSTART:20261025T010000
END:STANDARD
END:VTIMEZONE
BEGIN:VEVENT
DTSTART;TZID=Europe/London:20250925T140000
DTEND;TZID=Europe/London:20250927T153000
DTSTAMP:20260419T130237
CREATED:20250501T172606Z
LAST-MODIFIED:20251016T150327Z
UID:10000665-1758808800-1758987000@www.naturalcookeryschool.com
SUMMARY:Wellness- 3 day course with Optional Yoga
DESCRIPTION:Food and cooking are central to self-care and wellness\, and this nurturing three-day course combines hands-on cookery lessons with optional restorative yoga sessions. \nWe’ll show you to how to use locally sourced\, organic ingredients to create a selection of seasonal dishes to rebalance your body\, and we’ll teach you about fermentation\, baking and seed sprouting along the way. Erin will share her expertise in culinary skills\, seasonal foods\, and combining ingredients with care\, giving you all the tools you need to embrace a health-giving diet that’s packed with flavour and goodness. \nSample Recipes \n\nSplt pea puree with ras el hanout cauliflower and mint chutney\nChickpea pancakes with butter beans\, kale and leeks with cultured cashew cream\nZa’atar roasted celeriac\, quinoa tabbouleh\, falafels  and  tahini sauce\nSeedy carrot cake\nSquash and kale rosti wih smokey black beans\nFlax\, sunflower and sesame crackers\nHow to make sauerkraut and other fermented vegetables\nPower brownies with ganche and rasperries\n\nGrace and Glow\, a Nailsworth-based yoga studio with a focus on rejuvenation and empowerment run our yoga sessions. \nFor more information about the weekend please see our Wellness page. \nThe small print – please take the time to read our terms and conditions before booking.
URL:https://www.naturalcookeryschool.com/class/wellness-3-day-course-with-optional-yoga1/
LOCATION:Natural Cookery School\, Days Mill\, Old Market\,\, Nailsworth\, GL6 0DU\, United Kingdom
CATEGORIES:3 Day,Classes,Multi Day
ATTACH;FMTTYPE=image/jpeg:https://www.naturalcookeryschool.com/wp-content/uploads/2022/09/3and5-day-courses.jpg
ORGANIZER;CN="Natural Cookery School":MAILTO:erin@naturalcookeryschool.com
END:VEVENT
BEGIN:VEVENT
DTSTART;TZID=Europe/London:20250404T150000
DTEND;TZID=Europe/London:20250406T153000
DTSTAMP:20260419T130237
CREATED:20240422T134811Z
LAST-MODIFIED:20250116T163928Z
UID:10000554-1743778800-1743953400@www.naturalcookeryschool.com
SUMMARY:Wellness- 3 day course with Optional Yoga
DESCRIPTION:Food and cooking are central to self-care and wellness\, and this nurturing three-day course combines hands-on cookery lessons with optional restorative yoga sessions. \nWe’ll show you to how to use locally sourced\, organic ingredients to create a selection of seasonal dishes to rebalance your body\, and we’ll teach you about fermentation\, baking and seed sprouting along the way. Erin will share her expertise in culinary skills\, seasonal foods\, and combining ingredients with care\, giving you all the tools you need to embrace a health-giving diet that’s packed with flavour and goodness. \nSample Recipes \n\nSplt pea puree with ras el hanout cauliflower and mint chutney\nChickpea pancakes with butter beans\, kale and leeks with cultured cashew cream\nZa’atar roasted celeriac\, quinoa tabbouleh\, falafels  and  tahini sauce\nSeedy carrot cake\nSquash and kale rosti wih smokey black beans\nFlax\, sunflower and sesame crackers\nHow to make sauerkraut and other fermented vegetables\nPower brownies with ganche and rasperries\n\n  \nGrace and Glow\, a Nailsworth-based yoga studio with a focus on rejuvenation and empowerment run our yoga sessions. \nFor more information about the weekend please see our Wellness page. \nThe small print – please take the time to read our terms and conditions before booking.
URL:https://www.naturalcookeryschool.com/class/wellness-cookery-and-optoinal-yoga-3-day-course-4/
LOCATION:Natural Cookery School\, Days Mill\, Old Market\,\, Nailsworth\, GL6 0DU\, United Kingdom
CATEGORIES:3 Day,Classes,Multi Day
ATTACH;FMTTYPE=image/jpeg:https://www.naturalcookeryschool.com/wp-content/uploads/2022/09/3and5-day-courses.jpg
ORGANIZER;CN="Natural Cookery School":MAILTO:erin@naturalcookeryschool.com
END:VEVENT
BEGIN:VEVENT
DTSTART;TZID=Europe/London:20250310T093000
DTEND;TZID=Europe/London:20250314T153000
DTSTAMP:20260419T130237
CREATED:20240110T162701Z
LAST-MODIFIED:20250116T163931Z
UID:10000519-1741599000-1741966200@www.naturalcookeryschool.com
SUMMARY:The Plant Based Kitchen - 5 day course
DESCRIPTION:Whether you’re new to plant based cookery or looking to broaden your vegan repertoire\, you’ll gain confidence in the kitchen at Erin’s flagship five day cookery course. This immersive experience is a wonderful week of hands-on cooking and eye-opening demonstrations\, where you will learn to create delicious seasonal and organic meals. \nErin will share culinary and nutritional expertise gained over decades of working with food\, showing you how to use proteins such as tofu and tempeh as the building blocks for delicious dishes; how to create fine foundations with plant based sauces and stocks; and demonstrating modern and traditional recipes from around the world. You’ll learn more about why shopping seasonally is so important to health\, and you’ll pick up professional tips and tricks that will help you become a natural in the kitchen. \nPlease see a full description on The Plant Based Kitchen page and for accommodation the Where to Stay page. \nThe course is payable in installments\, please email us to discuss. \nThe small print – please take the time to read our terms and conditions before booking.
URL:https://www.naturalcookeryschool.com/class/the-plant-based-kitchen-5-day-course-2/
LOCATION:Natural Cookery School\, Days Mill\, Old Market\,\, Nailsworth\, GL6 0DU\, United Kingdom
CATEGORIES:5 Day,Classes,Multi Day
ATTACH;FMTTYPE=image/jpeg:https://www.naturalcookeryschool.com/wp-content/uploads/2024/08/mains2.jpg
ORGANIZER;CN="Natural Cookery School":MAILTO:erin@naturalcookeryschool.com
END:VEVENT
BEGIN:VEVENT
DTSTART;TZID=Europe/London:20241007T093000
DTEND;TZID=Europe/London:20241011T153000
DTSTAMP:20260419T130237
CREATED:20240110T162839Z
LAST-MODIFIED:20240906T104050Z
UID:10000520-1728293400-1728660600@www.naturalcookeryschool.com
SUMMARY:The Plant Based Kitchen - 5 day course
DESCRIPTION:Whether you’re new to plant based cookery or looking to broaden your vegan repertoire\, you’ll gain confidence in the kitchen at Erin’s flagship five day cookery course. This immersive experience is a wonderful week of hands-on cooking and eye-opening demonstrations\, where you will learn to create delicious seasonal and organic meals. \nErin will share culinary and nutritional expertise gained over decades of working with food\, showing you how to use proteins such as tofu and tempeh as the building blocks for delicious dishes; how to create fine foundations with plant based sauces and stocks; and demonstrating modern and traditional recipes from around the world. You’ll learn more about why shopping seasonally is so important to health\, and you’ll pick up professional tips and tricks that will help you become a natural in the kitchen. \nPlease see a full description on The Plant Based Kitchen page and for accommodation the Where to Stay page \nThe small print – please take the time to read our terms and conditions before booking. In the case of cancellation due to a national lockdown\, your money will be refunded or you can book on another course.
URL:https://www.naturalcookeryschool.com/class/the-plant-based-kitchen-5-day-course/
LOCATION:Natural Cookery School\, Days Mill\, Old Market\,\, Nailsworth\, GL6 0DU\, United Kingdom
CATEGORIES:5 Day,Classes,Multi Day
ATTACH;FMTTYPE=image/jpeg:https://www.naturalcookeryschool.com/wp-content/uploads/2024/08/mains2.jpg
ORGANIZER;CN="Natural Cookery School":MAILTO:erin@naturalcookeryschool.com
END:VEVENT
BEGIN:VEVENT
DTSTART;TZID=Europe/London:20240610T093000
DTEND;TZID=Europe/London:20240614T153000
DTSTAMP:20260419T130237
CREATED:20240110T162255Z
LAST-MODIFIED:20240906T104751Z
UID:10000518-1718011800-1718379000@www.naturalcookeryschool.com
SUMMARY:The Natural Kitchen - 5 day course
DESCRIPTION:Whether you’re new to plant based cookery or looking to broaden your vegan repertoire\, you’ll gain confidence in the kitchen at Erin’s flagship five day cookery course. This immersive experience is a wonderful week of hands-on cooking and eye-opening demonstrations\, where you will learn to create delicious seasonal and organic meals. \nErin will share culinary and nutritional expertise gained over decades of working with food\, showing you how to use proteins such as tofu and tempeh as the building blocks for delicious dishes; how to create fine foundations with plant based sauces and stocks; and demonstrating modern and traditional recipes from around the world. You’ll learn more about why shopping seasonally is so important to health\, and you’ll pick up professional tips and tricks that will help you become a natural in the kitchen. \nSample Recipes \nCauliflower & chickpea jalfrezi\nLemon Cashew Rice\nQuick naan breads \nGrilled Portabella Mushroom \nButter bean Smash\nChimmichuri \nZa’atar roasted celeriac\nSeedy quinoa  and tahini sauce \nTempeh Tacos\nRefried black beans\nHeart of Palm Ceviche \nThai green curry stack\nCoconut crusted tofu \nSweet and Natural Treats\nSeedy carrot cake\nChocolate Midnight Tart\nChocolate brownies\nLemon coconut tart\nMango cashew cheesecake \nPlease see a full description on The Plant Based Kitchen page and for accommodation the  Where to Stay page. \nThe small print – please take the time to read our terms and conditions before booking. In the case of cancellation due to a national lockdown\, your money will be refunded or you can book on another course.
URL:https://www.naturalcookeryschool.com/class/the-natural-kitchen-5-day-course-4/
LOCATION:Natural Cookery School\, Days Mill\, Old Market\,\, Nailsworth\, GL6 0DU\, United Kingdom
CATEGORIES:5 Day,Classes,Multi Day
ATTACH;FMTTYPE=image/jpeg:https://www.naturalcookeryschool.com/wp-content/uploads/2022/09/naturalkitchen.jpg
ORGANIZER;CN="Natural Cookery School":MAILTO:erin@naturalcookeryschool.com
END:VEVENT
BEGIN:VEVENT
DTSTART;TZID=Europe/London:20240419T150000
DTEND;TZID=Europe/London:20240421T153000
DTSTAMP:20260419T130237
CREATED:20230901T140342Z
LAST-MODIFIED:20240305T092647Z
UID:10000482-1713538800-1713713400@www.naturalcookeryschool.com
SUMMARY:Wellness Cookery and Yoga - 3 day course
DESCRIPTION:Food and cooking are central to self-care and wellness\, and this nurturing three-day course combines hands-on cookery lessons with restorative yoga sessions. \nWe’ll show you to how to use locally sourced\, organic ingredients to create a selection of seasonal dishes to rebalance your body\, and we’ll teach you about fermentation\, baking and seed sprouting along the way. Erin will share her expertise in culinary skills\, seasonal foods\, and combining ingredients with care\, giving you all the tools you need to embrace a health-giving diet that’s packed with flavour and goodness. \nSample Recipes \n\nRed lentils with ras el hanout cauliflower and mint chutney\nChickpea pancakes with butter beans\, kale and leeks with cultured cashew cream\nZa’atar roasted celeriac\, quinoa tabbouleh\, falafels  and  tahini sauce\nSeedy carrot cake\nFlax\, sunflower and sesame crackers \n\n  \nOur yoga sessions are run by Grace and Glow\, a Nailsworth-based yoga studio with a focus on rejuvenation and empowerment. \nFor more information about the weekend please see our Wellness page. \nThe small print – please take the time to read our terms and conditions before booking.
URL:https://www.naturalcookeryschool.com/class/wellness-cookery-and-yoga-3-day-course-2/
LOCATION:Natural Cookery School\, Days Mill\, Old Market\,\, Nailsworth\, GL6 0DU\, United Kingdom
CATEGORIES:3 Day,Classes,Multi Day
ATTACH;FMTTYPE=image/jpeg:https://www.naturalcookeryschool.com/wp-content/uploads/2022/09/3and5-day-courses.jpg
ORGANIZER;CN="Natural Cookery School":MAILTO:erin@naturalcookeryschool.com
END:VEVENT
BEGIN:VEVENT
DTSTART;TZID=Europe/London:20240311T093000
DTEND;TZID=Europe/London:20240315T153000
DTSTAMP:20260419T130237
CREATED:20221003T163529Z
LAST-MODIFIED:20240906T104659Z
UID:10000350-1710149400-1710516600@www.naturalcookeryschool.com
SUMMARY:The Natural Kitchen - 5 day course
DESCRIPTION:Whether you’re new to plant based cookery or looking to broaden your vegan repertoire\, you’ll gain confidence in the kitchen at Erin’s flagship five day cookery course. This immersive experience is a wonderful week of hands-on cooking and eye-opening demonstrations\, where you will learn to create delicious seasonal and organic meals. \nErin will share culinary and nutritional expertise gained over decades of working with food\, showing you how to use proteins such as tofu and tempeh as the building blocks for delicious dishes; how to create fine foundations with plant based sauces and stocks; and demonstrating modern and traditional recipes from around the world. You’ll learn more about why shopping seasonally is so important to health\, and you’ll pick up professional tips and tricks that will help you become a natural in the kitchen. \nPlease see a full description on The Plant Based Kitchen page. \nThe small print – please take the time to read our terms and conditions before booking. In the case of cancellation due to a national lockdown\, your money will be refunded or you can book on another course.
URL:https://www.naturalcookeryschool.com/class/the-natural-kitchen-5-day-course-3/
LOCATION:Natural Cookery School\, Days Mill\, Old Market\,\, Nailsworth\, GL6 0DU\, United Kingdom
CATEGORIES:5 Day,Classes,Multi Day
ATTACH;FMTTYPE=image/jpeg:https://www.naturalcookeryschool.com/wp-content/uploads/2022/09/naturalkitchen.jpg
ORGANIZER;CN="Natural Cookery School":MAILTO:erin@naturalcookeryschool.com
END:VEVENT
BEGIN:VEVENT
DTSTART;TZID=Europe/London:20231013T150000
DTEND;TZID=Europe/London:20231015T153000
DTSTAMP:20260419T130237
CREATED:20220927T140108Z
LAST-MODIFIED:20231215T133301Z
UID:10000345-1697209200-1697383800@www.naturalcookeryschool.com
SUMMARY:Wellness Cookery and Yoga - 3 day course
DESCRIPTION:Food and cooking are central to self-care and wellness\, and this nurturing three-day course combines hands-on cookery lessons with restorative yoga sessions. \nWe’ll show you to how to use locally sourced\, organic ingredients to create a selection of seasonal dishes to rebalance your body\, and we’ll teach you about fermentation\, baking and seed sprouting along the way. Erin will share her expertise in culinary skills\, seasonal foods\, and combining ingredients with care\, giving you all the tools you need to embrace a health-giving diet that’s packed with flavour and goodness. \nOur yoga sessions are run by Warrior and Wild\, a Nailsworth-based yoga school with a focus on rejuvenation and empowerment. \nThe small print – please take the time to read our terms and conditions before booking.
URL:https://www.naturalcookeryschool.com/class/wellness-cookery-and-yoga-3-day-course-3/
LOCATION:Natural Cookery School\, Days Mill\, Old Market\,\, Nailsworth\, GL6 0DU\, United Kingdom
CATEGORIES:3 Day,Classes,Multi Day
ATTACH;FMTTYPE=image/jpeg:https://www.naturalcookeryschool.com/wp-content/uploads/2022/09/3and5-day-courses.jpg
ORGANIZER;CN="Natural Cookery School":MAILTO:erin@naturalcookeryschool.com
END:VEVENT
BEGIN:VEVENT
DTSTART;TZID=Europe/London:20230814T093000
DTEND;TZID=Europe/London:20230818T153000
DTSTAMP:20260419T130237
CREATED:20221003T161612Z
LAST-MODIFIED:20231215T133310Z
UID:10000348-1692005400-1692372600@www.naturalcookeryschool.com
SUMMARY:The Natural Kitchen - 5 day course
DESCRIPTION:Whether you’re new to plant based cookery or looking to broaden your vegan repertoire\, you’ll gain confidence in the kitchen at Erin’s flagship five day cookery course. This immersive experience is a wonderful week of hands-on cooking and eye-opening demonstrations\, where you will learn to create delicious seasonal and organic meals. \nErin will share culinary and nutritional expertise gained over decades of working with food\, showing you how to use proteins such as tofu and tempeh as the building blocks for delicious dishes; how to create fine foundations with plant based sauces and stocks; and demonstrating modern and traditional recipes from around the world. You’ll learn more about why shopping seasonally is so important to health\, and you’ll pick up professional tips and tricks that will help you become a natural in the kitchen. \nPlease see a full description on The Natural Kitchen page. \nThe small print – please take the time to read our terms and conditions before booking. In the case of cancellation due to a national lockdown\, your money will be refunded or you can book on another course.
URL:https://www.naturalcookeryschool.com/class/the-natural-kitchen-5-day-course-2/
LOCATION:Natural Cookery School\, Days Mill\, Old Market\,\, Nailsworth\, GL6 0DU\, United Kingdom
CATEGORIES:5 Day,Classes,Multi Day
ATTACH;FMTTYPE=image/jpeg:https://www.naturalcookeryschool.com/wp-content/uploads/2022/09/naturalkitchen.jpg
ORGANIZER;CN="Natural Cookery School":MAILTO:erin@naturalcookeryschool.com
END:VEVENT
BEGIN:VEVENT
DTSTART;TZID=Europe/London:20230227T093000
DTEND;TZID=Europe/London:20230303T153000
DTSTAMP:20260419T130237
CREATED:20220928T160639Z
LAST-MODIFIED:20240906T104621Z
UID:10000346-1677490200-1677857400@www.naturalcookeryschool.com
SUMMARY:The Natural Kitchen - 5 day course
DESCRIPTION:Whether you’re new to plant based cookery or looking to broaden your vegan repertoire\, you’ll gain confidence in the kitchen at Erin’s flagship five day course. This immersive experience is a wonderful week of hands-on cooking and eye-opening demonstrations\, where you will learn to create delicious seasonal and organic meals. \nErin will share culinary and nutritional expertise gained over decades of working with food\, showing you how to use proteins such as tofu and tempeh as the building blocks for delicious dishes; how to create fine foundations with plant based sauces and stocks; and demonstrating modern and traditional recipes from around the world. You’ll learn more about why shopping seasonally is so important to health\, and you’ll pick up professional tips and tricks that will help you become a natural in the kitchen. \nPlease see a full description on The Plant Based Kitchen page. \nThe small print – please take the time to read our terms and conditions before booking. In the case of cancellation due to a national lockdown\, your money will be refunded or you can book on another course.
URL:https://www.naturalcookeryschool.com/class/the-natural-kitchen-5-day-course/
LOCATION:Natural Cookery School\, Days Mill\, Old Market\,\, Nailsworth\, GL6 0DU\, United Kingdom
CATEGORIES:5 Day,Multi Day
ATTACH;FMTTYPE=image/jpeg:https://www.naturalcookeryschool.com/wp-content/uploads/2022/09/naturalkitchen.jpg
ORGANIZER;CN="Natural Cookery School":MAILTO:erin@naturalcookeryschool.com
END:VEVENT
BEGIN:VEVENT
DTSTART;TZID=Europe/London:20230217T150000
DTEND;TZID=Europe/London:20230219T153000
DTSTAMP:20260419T130237
CREATED:20220822T135628Z
LAST-MODIFIED:20230202T085334Z
UID:10000341-1676646000-1676820600@www.naturalcookeryschool.com
SUMMARY:Wellness Cookery and Yoga - 3 day course
DESCRIPTION:Food and cooking are central to self-care and wellness\, and this nurturing three-day course combines hands-on cookery lessons with restorative yoga sessions. \nWe’ll show you to how to use locally sourced\, organic ingredients to create a selection of seasonal dishes to rebalance your body\, and we’ll teach you about fermentation\, baking and seed sprouting along the way. Erin will share her expertise in culinary skills\, seasonal foods\, and combining ingredients with care\, giving you all the tools you need to embrace a health-giving diet that’s packed with flavour and goodness. \nOur yoga sessions are run by Warrior and Wild\, a Nailsworth-based yoga school with a focus on rejuvenation and empowerment. \nThe small print – please take the time to read our terms and conditions before booking.
URL:https://www.naturalcookeryschool.com/class/wellness-cookery-and-yoga-3-day-course/
LOCATION:Natural Cookery School\, Days Mill\, Old Market\,\, Nailsworth\, GL6 0DU\, United Kingdom
CATEGORIES:3 Day,Multi Day
ATTACH;FMTTYPE=image/jpeg:https://www.naturalcookeryschool.com/wp-content/uploads/2022/09/3and5-day-courses.jpg
ORGANIZER;CN="Natural Cookery School":MAILTO:erin@naturalcookeryschool.com
END:VEVENT
END:VCALENDAR