BEGIN:VCALENDAR
VERSION:2.0
PRODID:-//Natural Cookery School - ECPv6.15.20//NONSGML v1.0//EN
CALSCALE:GREGORIAN
METHOD:PUBLISH
X-WR-CALNAME:Natural Cookery School
X-ORIGINAL-URL:https://www.naturalcookeryschool.com
X-WR-CALDESC:Events for Natural Cookery School
REFRESH-INTERVAL;VALUE=DURATION:PT1H
X-Robots-Tag:noindex
X-PUBLISHED-TTL:PT1H
BEGIN:VTIMEZONE
TZID:Europe/London
BEGIN:DAYLIGHT
TZOFFSETFROM:+0000
TZOFFSETTO:+0100
TZNAME:BST
DTSTART:20200329T010000
END:DAYLIGHT
BEGIN:STANDARD
TZOFFSETFROM:+0100
TZOFFSETTO:+0000
TZNAME:GMT
DTSTART:20201025T010000
END:STANDARD
BEGIN:DAYLIGHT
TZOFFSETFROM:+0000
TZOFFSETTO:+0100
TZNAME:BST
DTSTART:20210328T010000
END:DAYLIGHT
BEGIN:STANDARD
TZOFFSETFROM:+0100
TZOFFSETTO:+0000
TZNAME:GMT
DTSTART:20211031T010000
END:STANDARD
BEGIN:DAYLIGHT
TZOFFSETFROM:+0000
TZOFFSETTO:+0100
TZNAME:BST
DTSTART:20220327T010000
END:DAYLIGHT
BEGIN:STANDARD
TZOFFSETFROM:+0100
TZOFFSETTO:+0000
TZNAME:GMT
DTSTART:20221030T010000
END:STANDARD
BEGIN:DAYLIGHT
TZOFFSETFROM:+0000
TZOFFSETTO:+0100
TZNAME:BST
DTSTART:20230326T010000
END:DAYLIGHT
BEGIN:STANDARD
TZOFFSETFROM:+0100
TZOFFSETTO:+0000
TZNAME:GMT
DTSTART:20231029T010000
END:STANDARD
BEGIN:DAYLIGHT
TZOFFSETFROM:+0000
TZOFFSETTO:+0100
TZNAME:BST
DTSTART:20240331T010000
END:DAYLIGHT
BEGIN:STANDARD
TZOFFSETFROM:+0100
TZOFFSETTO:+0000
TZNAME:GMT
DTSTART:20241027T010000
END:STANDARD
BEGIN:DAYLIGHT
TZOFFSETFROM:+0000
TZOFFSETTO:+0100
TZNAME:BST
DTSTART:20250330T010000
END:DAYLIGHT
BEGIN:STANDARD
TZOFFSETFROM:+0100
TZOFFSETTO:+0000
TZNAME:GMT
DTSTART:20251026T010000
END:STANDARD
BEGIN:DAYLIGHT
TZOFFSETFROM:+0000
TZOFFSETTO:+0100
TZNAME:BST
DTSTART:20260329T010000
END:DAYLIGHT
BEGIN:STANDARD
TZOFFSETFROM:+0100
TZOFFSETTO:+0000
TZNAME:GMT
DTSTART:20261025T010000
END:STANDARD
END:VTIMEZONE
BEGIN:VEVENT
DTSTART;TZID=Europe/London:20251204T183000
DTEND;TZID=Europe/London:20251204T213000
DTSTAMP:20260422T180147
CREATED:20250812T091454Z
LAST-MODIFIED:20251021T090351Z
UID:10000675-1764873000-1764883800@www.naturalcookeryschool.com
SUMMARY:Winter One Pot Wonders
DESCRIPTION:This class will take you through a variety of meat free one pot wonders perfect for easing into the cooler months. Winter vegetables paired with pulses and grains to create delicious nutritious dishes that are packed with plant based protein. These delicious and nutritious dishes are easy peasy and quick for busy lives. \nSample Recipes: \n\nBurmese noodle curry\nBlack bean and squash chilli with cornbread\nInstant miso ramen\nWinter vegetable and tofu bake with tahini sauce
URL:https://www.naturalcookeryschool.com/class/winter-one-pot-wonders-7/
LOCATION:Natural Cookery School\, Days Mill\, Old Market\,\, Nailsworth\, GL6 0DU\, United Kingdom
CATEGORIES:Classes,One Pot Wonders
ATTACH;FMTTYPE=image/jpeg:https://www.naturalcookeryschool.com/wp-content/uploads/2012/10/saucepanJPG.jpg
ORGANIZER;CN="Natural Cookery School":MAILTO:erin@naturalcookeryschool.com
END:VEVENT
BEGIN:VEVENT
DTSTART;TZID=Europe/London:20250206T183000
DTEND;TZID=Europe/London:20250206T213000
DTSTAMP:20260422T180147
CREATED:20241119T153948Z
LAST-MODIFIED:20250116T163938Z
UID:10000616-1738866600-1738877400@www.naturalcookeryschool.com
SUMMARY:Winter One Pot Wonders
DESCRIPTION:This class will take you through a variety of meat free one pot wonders perfect for easing into the cooler months. Winter vegetables paired with pulses and grains to create delicious nutritious dishes that are packed with plant based protein. These delicious and nutritious dishes are easy peasy and quick for busy lives. \nSample Recipes: \n\nBurmese noodle curry\nBlack bean and squash chilli with cornbread\nInstant miso ramen\nWinter vegetable and tofu bake with tahini sauce
URL:https://www.naturalcookeryschool.com/class/winter-one-pot-wonders-6/
LOCATION:Natural Cookery School\, Days Mill\, Old Market\,\, Nailsworth\, GL6 0DU\, United Kingdom
CATEGORIES:Classes,One Pot Wonders
ATTACH;FMTTYPE=image/jpeg:https://www.naturalcookeryschool.com/wp-content/uploads/2012/10/saucepanJPG.jpg
ORGANIZER;CN="Natural Cookery School":MAILTO:erin@naturalcookeryschool.com
END:VEVENT
BEGIN:VEVENT
DTSTART;TZID=Europe/London:20241204T183000
DTEND;TZID=Europe/London:20241204T213000
DTSTAMP:20260422T180147
CREATED:20240814T111543Z
LAST-MODIFIED:20250116T163945Z
UID:10000575-1733337000-1733347800@www.naturalcookeryschool.com
SUMMARY:Winter One Pot Wonders
DESCRIPTION:This class will take you through a variety of meat free one pot wonders perfect for easing into the cooler months. Winter vegetables paired with pulses and grains to create delicious nutritious dishes that are packed with plant based protein. These delicious and nutritious dishes are easy peasy and quick for busy lives. \nSample Recipes: \n\nBurmese noodle curry\nBlack bean and squash chilli with cornbread\nInstant miso ramen\nWinter vegetable and tofu bake with tahini sauce
URL:https://www.naturalcookeryschool.com/class/winter-one-pot-wonders-5/
LOCATION:Natural Cookery School\, Days Mill\, Old Market\,\, Nailsworth\, GL6 0DU\, United Kingdom
CATEGORIES:Classes,One Pot Wonders
ATTACH;FMTTYPE=image/jpeg:https://www.naturalcookeryschool.com/wp-content/uploads/2012/10/saucepanJPG.jpg
ORGANIZER;CN="Natural Cookery School":MAILTO:erin@naturalcookeryschool.com
END:VEVENT
BEGIN:VEVENT
DTSTART;TZID=Europe/London:20240207T183000
DTEND;TZID=Europe/London:20240207T213000
DTSTAMP:20260422T180147
CREATED:20230901T123223Z
LAST-MODIFIED:20231215T133219Z
UID:10000473-1707330600-1707341400@www.naturalcookeryschool.com
SUMMARY:Winter One Pot Wonders
DESCRIPTION:This class will take you through a variety of meat free one pot wonders perfect for easing into the cooler months. Winter vegetables paired with pulses and grains to create delicious nutritious dishes that are packed with plant based protein. These delicious and nutritious dishes are easy peasy and quick for busy lives. \nSample Recipes: \n\nTandori quinoa with chickpeas\, spinach and sweet potato\nMexican black bean chilli and cornbread\nInstant miso ramen\nWinter vegetable and tofu bake with tahini sauce
URL:https://www.naturalcookeryschool.com/class/winter-one-pot-wonders-4/
LOCATION:Natural Cookery School\, Days Mill\, Old Market\,\, Nailsworth\, GL6 0DU\, United Kingdom
CATEGORIES:Classes,Evening Classes,One Pot Wonders
ATTACH;FMTTYPE=image/jpeg:https://www.naturalcookeryschool.com/wp-content/uploads/2012/10/saucepanJPG.jpg
END:VEVENT
BEGIN:VEVENT
DTSTART;TZID=Europe/London:20231206T183000
DTEND;TZID=Europe/London:20231206T213000
DTSTAMP:20260422T180147
CREATED:20230120T131115Z
LAST-MODIFIED:20231215T133239Z
UID:10000410-1701887400-1701898200@www.naturalcookeryschool.com
SUMMARY:Winter One Pot Wonders
DESCRIPTION:This class will take you through a variety of meat free one pot wonders perfect for easing into the cooler months. Winter vegetables paired with pulses and grains to create delicious nutritious dishes that are packed with plant based protein. These delicious and nutritious dishes are easy peasy and quick for busy lives. \nSample Recipes: \n\nTandori quinoa with chickpeas\, spinach and sweet potato\nMexican black bean chilli and cornbread\nInstant miso ramen\nWinter vegetable and tofu bake with tahini sauce
URL:https://www.naturalcookeryschool.com/class/winter-one-pot-wonders-3/
LOCATION:Natural Cookery School\, Days Mill\, Old Market\,\, Nailsworth\, GL6 0DU\, United Kingdom
CATEGORIES:Classes,Evening Classes,One Pot Wonders
ATTACH;FMTTYPE=image/jpeg:https://www.naturalcookeryschool.com/wp-content/uploads/2012/10/saucepanJPG.jpg
END:VEVENT
BEGIN:VEVENT
DTSTART;TZID=Europe/London:20230201T183000
DTEND;TZID=Europe/London:20230201T213000
DTSTAMP:20260422T180147
CREATED:20220823T133354Z
LAST-MODIFIED:20220823T133354Z
UID:10000313-1675276200-1675287000@www.naturalcookeryschool.com
SUMMARY:Winter One Pot Wonders
DESCRIPTION:This class will take you through a variety of meat free one pot wonders perfect for easing into the cooler months. Winter vegetables paired with pulses and grains to create delicious nutritious dishes that are packed with plant based protein. These delicious and nutritious dishes are easy peasy and quick for busy lives. \nSample Recipes: \n\nTandori quinoa with chickpeas\, spinach and sweet potato\nMexican black bean chilli and cornbread\nInstant miso ramen\nWinter vegetable and tofu bake with tahini sauce
URL:https://www.naturalcookeryschool.com/class/winter-one-pot-wonders-2/
LOCATION:Natural Cookery School\, Days Mill\, Old Market\,\, Nailsworth\, GL6 0DU\, United Kingdom
CATEGORIES:Classes,Evening Classes,One Pot Wonders
ATTACH;FMTTYPE=image/jpeg:https://www.naturalcookeryschool.com/wp-content/uploads/2012/10/saucepanJPG.jpg
END:VEVENT
BEGIN:VEVENT
DTSTART;TZID=Europe/London:20221208T183000
DTEND;TZID=Europe/London:20221208T213000
DTSTAMP:20260422T180147
CREATED:20220823T132602Z
LAST-MODIFIED:20221109T123515Z
UID:10000312-1670524200-1670535000@www.naturalcookeryschool.com
SUMMARY:Winter One Pot Wonders
DESCRIPTION:This class will take you through a variety of meat free one pot wonders perfect for easing into the cooler months. Winter vegetables paired with pulses and grains to create delicious nutritious dishes that are packed with plant based protein. These delicious and nutritious dishes are easy peasy and quick for busy lives. \nSample Recipes: \n\nTandori quinoa with chickpeas\, spinach and sweet potato\nMexican black bean chilli and cornbread\nInstant miso ramen\nWinter vegetable and tofu bake with tahini sauce
URL:https://www.naturalcookeryschool.com/class/winter-one-pot-wonders/
LOCATION:Natural Cookery School\, Days Mill\, Old Market\,\, Nailsworth\, GL6 0DU\, United Kingdom
CATEGORIES:Christmas,Classes,Evening Classes,One Pot Wonders
ATTACH;FMTTYPE=image/jpeg:https://www.naturalcookeryschool.com/wp-content/uploads/2012/10/saucepanJPG.jpg
END:VEVENT
BEGIN:VEVENT
DTSTART;TZID=Europe/London:20220217T183000
DTEND;TZID=Europe/London:20220217T213000
DTSTAMP:20260422T180147
CREATED:20211027T150946Z
LAST-MODIFIED:20220209T125931Z
UID:10000245-1645122600-1645133400@www.naturalcookeryschool.com
SUMMARY:One Pot Wonders
DESCRIPTION:This class will take you through a variety of meat free one pot wonders perfect for easing into the cooler months. Winter vegetables paired with pulses and grains to create delicious nutritious dishes that are packed with plant based protein. These delicious and nutritious dishes are easy peasy and quick for busy lives. \nSample Recipes: \n\nTandori quinoa with chickpeas\, spinach and sweet potato\nMexican black bean chilli and cornbread\nInstant miso ramen\nWinter vegetable and tofu bake with tahini sauce
URL:https://www.naturalcookeryschool.com/class/one-pot-wonders-7/
LOCATION:Natural Cookery School\, Days Mill\, Old Market\,\, Nailsworth\, GL6 0DU\, United Kingdom
CATEGORIES:Classes,Evening Classes,One Pot Wonders
ATTACH;FMTTYPE=image/jpeg:https://www.naturalcookeryschool.com/wp-content/uploads/2012/10/saucepanJPG.jpg
END:VEVENT
BEGIN:VEVENT
DTSTART;TZID=Europe/London:20211201T183000
DTEND;TZID=Europe/London:20211201T213000
DTSTAMP:20260422T180147
CREATED:20210915T123519Z
LAST-MODIFIED:20210915T123519Z
UID:10000226-1638383400-1638394200@www.naturalcookeryschool.com
SUMMARY:One Pot Wonders
DESCRIPTION:This class will take you through a variety of meat free one pot wonders perfect for easing into the cooler months. Autumn vegetables paired with pulses and grains to create delicious nutritious dishes that are packed with plant based protein. These delicious and nutritious dishes are easy peasy and quick for busy lives. \nSample Recipes: \n\nTandori quinoa with chickpea and sweet potato\nMexican black bean chilli and cornbread\nInstant miso ramen\nWinter vegetable and tofu bake with tahini sauce
URL:https://www.naturalcookeryschool.com/class/one-pot-wonders-6/
LOCATION:Natural Cookery School\, Days Mill\, Old Market\,\, Nailsworth\, GL6 0DU\, United Kingdom
CATEGORIES:Day Classes,Evening Classes,One Pot Wonders
ATTACH;FMTTYPE=image/jpeg:https://www.naturalcookeryschool.com/wp-content/uploads/2012/10/saucepanJPG.jpg
END:VEVENT
END:VCALENDAR