BEGIN:VCALENDAR
VERSION:2.0
PRODID:-//Natural Cookery School - ECPv6.15.20//NONSGML v1.0//EN
CALSCALE:GREGORIAN
METHOD:PUBLISH
X-WR-CALNAME:Natural Cookery School
X-ORIGINAL-URL:https://www.naturalcookeryschool.com
X-WR-CALDESC:Events for Natural Cookery School
REFRESH-INTERVAL;VALUE=DURATION:PT1H
X-Robots-Tag:noindex
X-PUBLISHED-TTL:PT1H
BEGIN:VTIMEZONE
TZID:Europe/London
BEGIN:DAYLIGHT
TZOFFSETFROM:+0000
TZOFFSETTO:+0100
TZNAME:BST
DTSTART:20250330T010000
END:DAYLIGHT
BEGIN:STANDARD
TZOFFSETFROM:+0100
TZOFFSETTO:+0000
TZNAME:GMT
DTSTART:20251026T010000
END:STANDARD
BEGIN:DAYLIGHT
TZOFFSETFROM:+0000
TZOFFSETTO:+0100
TZNAME:BST
DTSTART:20260329T010000
END:DAYLIGHT
BEGIN:STANDARD
TZOFFSETFROM:+0100
TZOFFSETTO:+0000
TZNAME:GMT
DTSTART:20261025T010000
END:STANDARD
BEGIN:DAYLIGHT
TZOFFSETFROM:+0000
TZOFFSETTO:+0100
TZNAME:BST
DTSTART:20270328T010000
END:DAYLIGHT
BEGIN:STANDARD
TZOFFSETFROM:+0100
TZOFFSETTO:+0000
TZNAME:GMT
DTSTART:20271031T010000
END:STANDARD
END:VTIMEZONE
BEGIN:VEVENT
DTSTART;TZID=Europe/London:20260430T183000
DTEND;TZID=Europe/London:20260430T213000
DTSTAMP:20260422T155250
CREATED:20260114T172249Z
LAST-MODIFIED:20260325T164912Z
UID:10000725-1777573800-1777584600@www.naturalcookeryschool.com
SUMMARY:Sri Lanken Style
DESCRIPTION:For a tiny little island\, Sri Lankan food delivers with big flavour! Join us for our Sri Lankan cookery class to get a taste of what the country is famous for. We will create the single most popular dish\, Parippu – Dhal Curry\, and rightly so for its delicious combination of lentils\, coconut milk\, tempered spices and chilli.\nWe will show you how to make our plant based verision of the famous hopper\, fermented coconut savoury pancake served with pol sambol – a delicious coconut relish. As well as a favourtie curry and fragrant tumeric and lemongrass rice. \nSample Recipes \n\nJackfruit curry – packed with flavour\nParippu – Dhal curry Sri Lanka’s most popular dish\nYellow Rice – turmeric and lemongrass flavoured rice\nPol Roti – Sri Lankan coconut flatbread\nPol Sambol – coconut chilli relish\n\n  \n 
URL:https://www.naturalcookeryschool.com/class/sri-lanken-style-4/
LOCATION:Natural Cookery School\, Days Mill\, Old Market\,\, Nailsworth\, GL6 0DU\, United Kingdom
CATEGORIES:Classes,Evening Classes,Sri Lanken Style
ATTACH;FMTTYPE=image/jpeg:https://www.naturalcookeryschool.com/wp-content/uploads/2023/01/Sri-Lankan.jpg
ORGANIZER;CN="Natural Cookery School":MAILTO:erin@naturalcookeryschool.com
END:VEVENT
END:VCALENDAR