BEGIN:VCALENDAR
VERSION:2.0
PRODID:-//Natural Cookery School - ECPv6.15.20//NONSGML v1.0//EN
CALSCALE:GREGORIAN
METHOD:PUBLISH
X-WR-CALNAME:Natural Cookery School
X-ORIGINAL-URL:https://www.naturalcookeryschool.com
X-WR-CALDESC:Events for Natural Cookery School
REFRESH-INTERVAL;VALUE=DURATION:PT1H
X-Robots-Tag:noindex
X-PUBLISHED-TTL:PT1H
BEGIN:VTIMEZONE
TZID:Europe/London
BEGIN:DAYLIGHT
TZOFFSETFROM:+0000
TZOFFSETTO:+0100
TZNAME:BST
DTSTART:20240331T010000
END:DAYLIGHT
BEGIN:STANDARD
TZOFFSETFROM:+0100
TZOFFSETTO:+0000
TZNAME:GMT
DTSTART:20241027T010000
END:STANDARD
BEGIN:DAYLIGHT
TZOFFSETFROM:+0000
TZOFFSETTO:+0100
TZNAME:BST
DTSTART:20250330T010000
END:DAYLIGHT
BEGIN:STANDARD
TZOFFSETFROM:+0100
TZOFFSETTO:+0000
TZNAME:GMT
DTSTART:20251026T010000
END:STANDARD
BEGIN:DAYLIGHT
TZOFFSETFROM:+0000
TZOFFSETTO:+0100
TZNAME:BST
DTSTART:20260329T010000
END:DAYLIGHT
BEGIN:STANDARD
TZOFFSETFROM:+0100
TZOFFSETTO:+0000
TZNAME:GMT
DTSTART:20261025T010000
END:STANDARD
END:VTIMEZONE
BEGIN:VEVENT
DTSTART;TZID=Europe/London:20251206T100000
DTEND;TZID=Europe/London:20251206T140000
DTSTAMP:20260422T134857
CREATED:20250304T152126Z
LAST-MODIFIED:20250924T162331Z
UID:10000647-1765015200-1765029600@www.naturalcookeryschool.com
SUMMARY:Christmas Artisan Vegan Cheese Board
DESCRIPTION:Christmas Artisan Vegan Cheese Board \nSpend a magical day learning how to craft your very own artisan vegan cheeses—perfect for a festive Christmas cheese board! \nForget shop-bought vegan cheese—our recipes will surprise you with their depth of flavour\, texture\, and sharpness. In this hands-on class\, you’ll discover the secrets to creating a variety of delicious cheeses that are dairy-free but every bit as indulgent. \nTogether we’ll explore: \nNut-based cheeses with creamy textures and tangy finishes\nCoconut-based cheeses with rich\, melt-in-the-mouth indulgence\nSoy-based cheeses for savoury depth and versatility\n\nYou’ll learn about the culturing and curing process to achieve that mature sharpness we associate with traditional cheeses\, as well as quick and simple cheeses that can be made in no time. \nBy the end of the class\, you’ll have the skills to assemble your own stunning Christmas vegan cheese board—a festive centrepiece that will wow friends and family alike. \nSample Recipes \nAged almond feta\nCultured cashew cheese four ways\nSmoked Gouda\nPine nut parmesan\nMacadamia chévre
URL:https://www.naturalcookeryschool.com/class/vegan-cheese-19/
LOCATION:Natural Cookery School\, Days Mill\, Old Market\,\, Nailsworth\, GL6 0DU\, United Kingdom
CATEGORIES:Classes,Day Classes,Vegan Cheese
ATTACH;FMTTYPE=image/jpeg:https://www.naturalcookeryschool.com/wp-content/uploads/2019/08/LOWRES-Vegan-Cheese-Course-8490.jpg
END:VEVENT
END:VCALENDAR